BEGIN:VCALENDAR
VERSION:2.0
PRODID:-//Greenville Convention Center - ECPv6.15.20//NONSGML v1.0//EN
CALSCALE:GREGORIAN
METHOD:PUBLISH
X-ORIGINAL-URL:https://greenvilleconventioncenter.com
X-WR-CALDESC:Events for Greenville Convention Center
REFRESH-INTERVAL;VALUE=DURATION:PT1H
X-Robots-Tag:noindex
X-PUBLISHED-TTL:PT1H
BEGIN:VTIMEZONE
TZID:UTC
BEGIN:STANDARD
TZOFFSETFROM:+0000
TZOFFSETTO:+0000
TZNAME:UTC
DTSTART:20220101T000000
END:STANDARD
END:VTIMEZONE
BEGIN:VEVENT
DTSTART;VALUE=DATE:20241015
DTEND;VALUE=DATE:20241019
DTSTAMP:20260424T131327
CREATED:20240510T140034Z
LAST-MODIFIED:20240510T140034Z
UID:10000399-1728950400-1729295999@greenvilleconventioncenter.com
SUMMARY:2024 APA-NC Planning Conference - Greenville
DESCRIPTION:American Planning Association – North Carolina Chapter
URL:https://greenvilleconventioncenter.com/event/2024-apa-nc-planning-conference-greenville/
LOCATION:Greenville Convention Center
END:VEVENT
BEGIN:VEVENT
DTSTART;VALUE=DATE:20231227
DTEND;VALUE=DATE:20231228
DTSTAMP:20260424T131327
CREATED:20230912T143336Z
LAST-MODIFIED:20230912T143336Z
UID:10000176-1703635200-1703721599@greenvilleconventioncenter.com
SUMMARY:FSN FOT Breakdown
DESCRIPTION:
URL:https://greenvilleconventioncenter.com/event/fsn-fot-breakdown/
LOCATION:Greenville Convention Center
END:VEVENT
BEGIN:VEVENT
DTSTART;VALUE=DATE:20231208
DTEND;VALUE=DATE:20231209
DTSTAMP:20260424T131327
CREATED:20230912T143029Z
LAST-MODIFIED:20230912T143029Z
UID:10000170-1701993600-1702079999@greenvilleconventioncenter.com
SUMMARY:USMC 1 - 10
DESCRIPTION:
URL:https://greenvilleconventioncenter.com/event/usmc-1-10/
LOCATION:Greenville Convention Center
END:VEVENT
BEGIN:VEVENT
DTSTART;VALUE=DATE:20231203
DTEND;VALUE=DATE:20231204
DTSTAMP:20260424T131327
CREATED:20230912T142601Z
LAST-MODIFIED:20230912T142601Z
UID:10000165-1701561600-1701647999@greenvilleconventioncenter.com
SUMMARY:USMC Birthday Ball
DESCRIPTION:
URL:https://greenvilleconventioncenter.com/event/usmc-birthday-ball-4/
LOCATION:Greenville Convention Center
END:VEVENT
BEGIN:VEVENT
DTSTART;VALUE=DATE:20231202
DTEND;VALUE=DATE:20231203
DTSTAMP:20260424T131327
CREATED:20230912T142510Z
LAST-MODIFIED:20230912T142510Z
UID:10000164-1701475200-1701561599@greenvilleconventioncenter.com
SUMMARY:USMC MALS 29
DESCRIPTION:
URL:https://greenvilleconventioncenter.com/event/usmc-mals-29/
LOCATION:Greenville Convention Center
END:VEVENT
BEGIN:VEVENT
DTSTART;VALUE=DATE:20231201
DTEND;VALUE=DATE:20231202
DTSTAMP:20260424T131327
CREATED:20230912T142437Z
LAST-MODIFIED:20230912T142437Z
UID:10000163-1701388800-1701475199@greenvilleconventioncenter.com
SUMMARY:USMC 2-6
DESCRIPTION:
URL:https://greenvilleconventioncenter.com/event/usmc-2-6/
LOCATION:Greenville Convention Center
END:VEVENT
BEGIN:VEVENT
DTSTART;VALUE=DATE:20231130
DTEND;VALUE=DATE:20231201
DTSTAMP:20260424T131327
CREATED:20230912T142343Z
LAST-MODIFIED:20230912T142343Z
UID:10000162-1701302400-1701388799@greenvilleconventioncenter.com
SUMMARY:USMC MWCS-28
DESCRIPTION:
URL:https://greenvilleconventioncenter.com/event/usmc-mwcs-28/
LOCATION:Greenville Convention Center
END:VEVENT
BEGIN:VEVENT
DTSTART;VALUE=DATE:20231120
DTEND;VALUE=DATE:20231121
DTSTAMP:20260424T131327
CREATED:20230912T142236Z
LAST-MODIFIED:20230912T142236Z
UID:10000160-1700438400-1700524799@greenvilleconventioncenter.com
SUMMARY:USMC VMM 266
DESCRIPTION:
URL:https://greenvilleconventioncenter.com/event/usmc-vmm-266/
LOCATION:Greenville Convention Center
END:VEVENT
BEGIN:VEVENT
DTSTART;VALUE=DATE:20231119
DTEND;VALUE=DATE:20231120
DTSTAMP:20260424T131327
CREATED:20230912T142111Z
LAST-MODIFIED:20230912T142111Z
UID:10000159-1700352000-1700438399@greenvilleconventioncenter.com
SUMMARY:USMC Birthday Ball
DESCRIPTION:
URL:https://greenvilleconventioncenter.com/event/usmc-birthday-ball-3/
LOCATION:Greenville Convention Center
END:VEVENT
BEGIN:VEVENT
DTSTART;VALUE=DATE:20231118
DTEND;VALUE=DATE:20231119
DTSTAMP:20260424T131327
CREATED:20230912T142045Z
LAST-MODIFIED:20230912T142045Z
UID:10000158-1700265600-1700351999@greenvilleconventioncenter.com
SUMMARY:USMC 2nd Maintenance Battalion
DESCRIPTION:
URL:https://greenvilleconventioncenter.com/event/usmc-2nd-maintenance-battalion/
LOCATION:Greenville Convention Center
END:VEVENT
BEGIN:VEVENT
DTSTART;VALUE=DATE:20231117
DTEND;VALUE=DATE:20231118
DTSTAMP:20260424T131327
CREATED:20230912T142009Z
LAST-MODIFIED:20230912T142009Z
UID:10000157-1700179200-1700265599@greenvilleconventioncenter.com
SUMMARY:USMC MARSOC
DESCRIPTION:
URL:https://greenvilleconventioncenter.com/event/usmc-marsoc/
LOCATION:Greenville Convention Center
END:VEVENT
BEGIN:VEVENT
DTSTART;VALUE=DATE:20231116
DTEND;VALUE=DATE:20231117
DTSTAMP:20260424T131327
CREATED:20230912T141939Z
LAST-MODIFIED:20230912T141939Z
UID:10000156-1700092800-1700179199@greenvilleconventioncenter.com
SUMMARY:USMC Hq Bn\, 2D Mar Div
DESCRIPTION:
URL:https://greenvilleconventioncenter.com/event/usmc-hq-bn-2d-mar-div/
LOCATION:Greenville Convention Center
END:VEVENT
BEGIN:VEVENT
DTSTART;VALUE=DATE:20231113
DTEND;VALUE=DATE:20231114
DTSTAMP:20260424T131327
CREATED:20230912T141820Z
LAST-MODIFIED:20230912T141820Z
UID:10000154-1699833600-1699919999@greenvilleconventioncenter.com
SUMMARY:USMC Birthday Ball
DESCRIPTION:
URL:https://greenvilleconventioncenter.com/event/usmc-birthday-ball-2/
LOCATION:Greenville Convention Center
END:VEVENT
BEGIN:VEVENT
DTSTART;VALUE=DATE:20231112
DTEND;VALUE=DATE:20231113
DTSTAMP:20260424T131327
CREATED:20230912T123752Z
LAST-MODIFIED:20230912T123752Z
UID:10000151-1699747200-1699833599@greenvilleconventioncenter.com
SUMMARY:USMC Birthday Ball
DESCRIPTION:
URL:https://greenvilleconventioncenter.com/event/usmc-birthday-ball/
LOCATION:Greenville Convention Center
END:VEVENT
BEGIN:VEVENT
DTSTART;VALUE=DATE:20231111
DTEND;VALUE=DATE:20231112
DTSTAMP:20260424T131327
CREATED:20230911T201302Z
LAST-MODIFIED:20230911T201302Z
UID:10000150-1699660800-1699747199@greenvilleconventioncenter.com
SUMMARY:USMC 8th ESB
DESCRIPTION:
URL:https://greenvilleconventioncenter.com/event/usmc-8th-esb/
LOCATION:Greenville Convention Center
END:VEVENT
BEGIN:VEVENT
DTSTART;VALUE=DATE:20231110
DTEND;VALUE=DATE:20231111
DTSTAMP:20260424T131327
CREATED:20230911T201233Z
LAST-MODIFIED:20230911T201233Z
UID:10000149-1699574400-1699660799@greenvilleconventioncenter.com
SUMMARY:USMC 2nd Supply Battalion
DESCRIPTION:
URL:https://greenvilleconventioncenter.com/event/usmc-2nd-supply-battalion/
LOCATION:Greenville Convention Center
END:VEVENT
BEGIN:VEVENT
DTSTART;VALUE=DATE:20231109
DTEND;VALUE=DATE:20231110
DTSTAMP:20260424T131327
CREATED:20230911T201200Z
LAST-MODIFIED:20230911T201200Z
UID:10000148-1699488000-1699574399@greenvilleconventioncenter.com
SUMMARY:USMC MALS 14
DESCRIPTION:
URL:https://greenvilleconventioncenter.com/event/usmc-mals-14/
LOCATION:Greenville Convention Center
END:VEVENT
BEGIN:VEVENT
DTSTART;VALUE=DATE:20231108
DTEND;VALUE=DATE:20231109
DTSTAMP:20260424T131327
CREATED:20230911T201135Z
LAST-MODIFIED:20230911T201135Z
UID:10000147-1699401600-1699487999@greenvilleconventioncenter.com
SUMMARY:USMC 2nd Combat Engineer Battalion
DESCRIPTION:
URL:https://greenvilleconventioncenter.com/event/usmc-2nd-combat-engineer-battalion/
LOCATION:Greenville Convention Center
END:VEVENT
BEGIN:VEVENT
DTSTART;VALUE=DATE:20231027
DTEND;VALUE=DATE:20231028
DTSTAMP:20260424T131327
CREATED:20230911T194646Z
LAST-MODIFIED:20230911T195922Z
UID:10000137-1698364800-1698451199@greenvilleconventioncenter.com
SUMMARY:USMC MCAS Cherry Point
DESCRIPTION:
URL:https://greenvilleconventioncenter.com/event/usmc-mcas-cherry-point/
LOCATION:Greenville Convention Center
END:VEVENT
BEGIN:VEVENT
DTSTART;VALUE=DATE:20231026
DTEND;VALUE=DATE:20231027
DTSTAMP:20260424T131327
CREATED:20230911T194615Z
LAST-MODIFIED:20230911T195840Z
UID:10000136-1698278400-1698364799@greenvilleconventioncenter.com
SUMMARY:USMC 2nd LAR
DESCRIPTION:
URL:https://greenvilleconventioncenter.com/event/usmc-2nd-lar/
LOCATION:Greenville Convention Center
END:VEVENT
BEGIN:VEVENT
DTSTART;VALUE=DATE:20231013
DTEND;VALUE=DATE:20231014
DTSTAMP:20260424T131327
CREATED:20230911T192134Z
LAST-MODIFIED:20230912T134634Z
UID:10000109-1697155200-1697241599@greenvilleconventioncenter.com
SUMMARY:APWA-NC
DESCRIPTION:
URL:https://greenvilleconventioncenter.com/event/apwa-nc-4/
LOCATION:Greenville Convention Center
END:VEVENT
BEGIN:VEVENT
DTSTART;VALUE=DATE:20231012
DTEND;VALUE=DATE:20231013
DTSTAMP:20260424T131327
CREATED:20230911T192115Z
LAST-MODIFIED:20230911T195732Z
UID:10000108-1697068800-1697155199@greenvilleconventioncenter.com
SUMMARY:APWA-NC
DESCRIPTION:
URL:https://greenvilleconventioncenter.com/event/apwa-nc-3/
LOCATION:Greenville Convention Center
END:VEVENT
BEGIN:VEVENT
DTSTART;VALUE=DATE:20231011
DTEND;VALUE=DATE:20231012
DTSTAMP:20260424T131327
CREATED:20230911T192056Z
LAST-MODIFIED:20230911T195631Z
UID:10000107-1696982400-1697068799@greenvilleconventioncenter.com
SUMMARY:APWA-NC
DESCRIPTION:
URL:https://greenvilleconventioncenter.com/event/apwa-nc-2/
LOCATION:Greenville Convention Center
END:VEVENT
BEGIN:VEVENT
DTSTART;VALUE=DATE:20231010
DTEND;VALUE=DATE:20231011
DTSTAMP:20260424T131327
CREATED:20230911T192032Z
LAST-MODIFIED:20230911T195708Z
UID:10000106-1696896000-1696982399@greenvilleconventioncenter.com
SUMMARY:APWA-NC
DESCRIPTION:
URL:https://greenvilleconventioncenter.com/event/apwa-nc/
LOCATION:Greenville Convention Center
END:VEVENT
BEGIN:VEVENT
DTSTART;VALUE=DATE:20230928
DTEND;VALUE=DATE:20230929
DTSTAMP:20260424T131327
CREATED:20230911T190419Z
LAST-MODIFIED:20230912T141338Z
UID:10000091-1695859200-1695945599@greenvilleconventioncenter.com
SUMMARY:USMC CLB 6
DESCRIPTION:
URL:https://greenvilleconventioncenter.com/event/usmc-clb-6/
LOCATION:Greenville Convention Center
END:VEVENT
END:VCALENDAR