BEGIN:VCALENDAR
VERSION:2.0
PRODID:-//Greenville Convention Center - ECPv6.15.20//NONSGML v1.0//EN
CALSCALE:GREGORIAN
METHOD:PUBLISH
X-WR-CALNAME:Greenville Convention Center
X-ORIGINAL-URL:https://greenvilleconventioncenter.com
X-WR-CALDESC:Events for Greenville Convention Center
REFRESH-INTERVAL;VALUE=DURATION:PT1H
X-Robots-Tag:noindex
X-PUBLISHED-TTL:PT1H
BEGIN:VTIMEZONE
TZID:UTC
BEGIN:STANDARD
TZOFFSETFROM:+0000
TZOFFSETTO:+0000
TZNAME:UTC
DTSTART:20230101T000000
END:STANDARD
END:VTIMEZONE
BEGIN:VEVENT
DTSTART;TZID=UTC:20260307T110000
DTEND;TZID=UTC:20260307T140000
DTSTAMP:20260424T215517
CREATED:20260218T164045Z
LAST-MODIFIED:20260306T143844Z
UID:10000893-1772881200-1772892000@greenvilleconventioncenter.com
SUMMARY:Ella Quinn's Book Signing
DESCRIPTION:
URL:https://greenvilleconventioncenter.com/event/ella-quinns-book-signing/
LOCATION:Gallery 4
END:VEVENT
BEGIN:VEVENT
DTSTART;VALUE=DATE:20240803
DTEND;VALUE=DATE:20240804
DTSTAMP:20260424T215517
CREATED:20240731T174514Z
LAST-MODIFIED:20240731T174514Z
UID:10000445-1722643200-1722729599@greenvilleconventioncenter.com
SUMMARY:Ayonna's Baby Shower
DESCRIPTION:
URL:https://greenvilleconventioncenter.com/event/ayonnas-baby-shower/
LOCATION:Gallery 4
END:VEVENT
BEGIN:VEVENT
DTSTART;TZID=UTC:20240629T180000
DTEND;TZID=UTC:20240629T210000
DTSTAMP:20260424T215517
CREATED:20240618T190520Z
LAST-MODIFIED:20240618T190520Z
UID:10000434-1719684000-1719694800@greenvilleconventioncenter.com
SUMMARY:A Couple's Night Out
DESCRIPTION:
URL:https://greenvilleconventioncenter.com/event/a-couples-night-out/
LOCATION:Gallery 4
END:VEVENT
END:VCALENDAR