BEGIN:VCALENDAR
VERSION:2.0
PRODID:-//Greenville Convention Center - ECPv6.15.20//NONSGML v1.0//EN
CALSCALE:GREGORIAN
METHOD:PUBLISH
X-ORIGINAL-URL:https://greenvilleconventioncenter.com
X-WR-CALDESC:Events for Greenville Convention Center
REFRESH-INTERVAL;VALUE=DURATION:PT1H
X-Robots-Tag:noindex
X-PUBLISHED-TTL:PT1H
BEGIN:VTIMEZONE
TZID:UTC
BEGIN:STANDARD
TZOFFSETFROM:+0000
TZOFFSETTO:+0000
TZNAME:UTC
DTSTART:20230101T000000
END:STANDARD
END:VTIMEZONE
BEGIN:VEVENT
DTSTART;VALUE=DATE:20240803
DTEND;VALUE=DATE:20240804
DTSTAMP:20260423T131411
CREATED:20240731T174656Z
LAST-MODIFIED:20240731T174656Z
UID:10000446-1722643200-1722729599@greenvilleconventioncenter.com
SUMMARY:Cherry Birthday Party
DESCRIPTION:
URL:https://greenvilleconventioncenter.com/event/cherry-birthday-party/
LOCATION:Galleries 4&5
END:VEVENT
BEGIN:VEVENT
DTSTART;VALUE=DATE:20240504
DTEND;VALUE=DATE:20240505
DTSTAMP:20260423T131411
CREATED:20240311T005108Z
LAST-MODIFIED:20240311T005108Z
UID:10000338-1714780800-1714867199@greenvilleconventioncenter.com
SUMMARY:Dills Birthday Soiree
DESCRIPTION:
URL:https://greenvilleconventioncenter.com/event/dills-birthday-soiree/
LOCATION:Galleries 4&5
END:VEVENT
BEGIN:VEVENT
DTSTART;VALUE=DATE:20240224
DTEND;VALUE=DATE:20240225
DTSTAMP:20260423T131411
CREATED:20240117T195907Z
LAST-MODIFIED:20240117T195907Z
UID:10000282-1708732800-1708819199@greenvilleconventioncenter.com
SUMMARY:Jackson Birthday Party
DESCRIPTION:
URL:https://greenvilleconventioncenter.com/event/jackson-birthday-party/
LOCATION:Galleries 4&5
END:VEVENT
BEGIN:VEVENT
DTSTART;VALUE=DATE:20240210
DTEND;VALUE=DATE:20240211
DTSTAMP:20260423T131411
CREATED:20240111T143955Z
LAST-MODIFIED:20240111T143955Z
UID:10000272-1707523200-1707609599@greenvilleconventioncenter.com
SUMMARY:Waring Birthday Party
DESCRIPTION:
URL:https://greenvilleconventioncenter.com/event/waring-birthday-party/
LOCATION:Galleries 4&5
END:VEVENT
END:VCALENDAR