BEGIN:VCALENDAR
VERSION:2.0
PRODID:-//Greenville Convention Center - ECPv6.15.20//NONSGML v1.0//EN
CALSCALE:GREGORIAN
METHOD:PUBLISH
X-WR-CALNAME:Greenville Convention Center
X-ORIGINAL-URL:https://greenvilleconventioncenter.com
X-WR-CALDESC:Events for Greenville Convention Center
REFRESH-INTERVAL;VALUE=DURATION:PT1H
X-Robots-Tag:noindex
X-PUBLISHED-TTL:PT1H
BEGIN:VTIMEZONE
TZID:UTC
BEGIN:STANDARD
TZOFFSETFROM:+0000
TZOFFSETTO:+0000
TZNAME:UTC
DTSTART:20220101T000000
END:STANDARD
END:VTIMEZONE
BEGIN:VEVENT
DTSTART;VALUE=DATE:20250412
DTEND;VALUE=DATE:20250413
DTSTAMP:20260423T194116
CREATED:20250113T160933Z
LAST-MODIFIED:20250113T160933Z
UID:10000547-1744416000-1744502399@greenvilleconventioncenter.com
SUMMARY:St. Peter's FWB Church
DESCRIPTION:
URL:https://greenvilleconventioncenter.com/event/st-peters-fwb-church/
LOCATION:G 1\, 2\, 3
END:VEVENT
BEGIN:VEVENT
DTSTART;TZID=UTC:20241214T180000
DTEND;TZID=UTC:20241214T220000
DTSTAMP:20260423T194116
CREATED:20240429T022532Z
LAST-MODIFIED:20240429T022532Z
UID:10000384-1734199200-1734213600@greenvilleconventioncenter.com
SUMMARY:Best Birthday Celebration
DESCRIPTION:
URL:https://greenvilleconventioncenter.com/event/best-birthday-celebration/
LOCATION:G 1\, 2\, 3
END:VEVENT
BEGIN:VEVENT
DTSTART;VALUE=DATE:20231014
DTEND;VALUE=DATE:20231015
DTSTAMP:20260423T194116
CREATED:20230911T193046Z
LAST-MODIFIED:20230912T125214Z
UID:10000115-1697241600-1697327999@greenvilleconventioncenter.com
SUMMARY:Beckwith Baby Shower
DESCRIPTION:
URL:https://greenvilleconventioncenter.com/event/beckwith-baby-shower/
LOCATION:G 1\, 2\, 3
END:VEVENT
BEGIN:VEVENT
DTSTART;VALUE=DATE:20230916
DTEND;VALUE=DATE:20230917
DTSTAMP:20260423T194116
CREATED:20230911T184640Z
LAST-MODIFIED:20230911T184640Z
UID:10000071-1694822400-1694908799@greenvilleconventioncenter.com
SUMMARY:Hickory Grove Church
DESCRIPTION:
URL:https://greenvilleconventioncenter.com/event/hickory-grove-church/
LOCATION:G 1\, 2\, 3
END:VEVENT
END:VCALENDAR