BEGIN:VCALENDAR
VERSION:2.0
PRODID:-//Greenville Convention Center - ECPv6.15.20//NONSGML v1.0//EN
CALSCALE:GREGORIAN
METHOD:PUBLISH
X-ORIGINAL-URL:https://greenvilleconventioncenter.com
X-WR-CALDESC:Events for Greenville Convention Center
REFRESH-INTERVAL;VALUE=DURATION:PT1H
X-Robots-Tag:noindex
X-PUBLISHED-TTL:PT1H
BEGIN:VTIMEZONE
TZID:UTC
BEGIN:STANDARD
TZOFFSETFROM:+0000
TZOFFSETTO:+0000
TZNAME:UTC
DTSTART:20230101T000000
END:STANDARD
END:VTIMEZONE
BEGIN:VEVENT
DTSTART;VALUE=DATE:20260320
DTEND;VALUE=DATE:20260321
DTSTAMP:20260424T130720
CREATED:20260305T154631Z
LAST-MODIFIED:20260305T154631Z
UID:10000907-1773964800-1774051199@greenvilleconventioncenter.com
SUMMARY:Private Event
DESCRIPTION:
URL:https://greenvilleconventioncenter.com/event/private-event-28/
LOCATION:Exhibit Halls C\, D\, E
END:VEVENT
BEGIN:VEVENT
DTSTART;VALUE=DATE:20241214
DTEND;VALUE=DATE:20241215
DTSTAMP:20260424T130720
CREATED:20240104T160903Z
LAST-MODIFIED:20240104T160903Z
UID:10000260-1734134400-1734220799@greenvilleconventioncenter.com
SUMMARY:River City Construction
DESCRIPTION:
URL:https://greenvilleconventioncenter.com/event/river-city-construction-3/
LOCATION:Exhibit Halls C\, D\, E
END:VEVENT
BEGIN:VEVENT
DTSTART;VALUE=DATE:20240824
DTEND;VALUE=DATE:20240826
DTSTAMP:20260424T130720
CREATED:20240731T175311Z
LAST-MODIFIED:20240731T175404Z
UID:10000448-1724457600-1724630399@greenvilleconventioncenter.com
SUMMARY:S&D Gun and Knife Show
DESCRIPTION:S&D Gun and Knife Show \nSaturday 9AM-5PM\nSunday 10AM-5PM \nCall us for more info or to book a table for the weekend. \n\n\n\n\n\n\nOffice: 252-745-0886\nAmber Caraway Spain Cell: 252-670-4988\nLisa Caraway Cell: 252-670-1278 \n 
URL:https://greenvilleconventioncenter.com/event/sd-gun-and-knife-show-6/
LOCATION:Exhibit Halls C\, D\, E
END:VEVENT
END:VCALENDAR