BEGIN:VCALENDAR
VERSION:2.0
PRODID:-//Greenville Convention Center - ECPv6.15.20//NONSGML v1.0//EN
CALSCALE:GREGORIAN
METHOD:PUBLISH
X-WR-CALNAME:Greenville Convention Center
X-ORIGINAL-URL:https://greenvilleconventioncenter.com
X-WR-CALDESC:Events for Greenville Convention Center
REFRESH-INTERVAL;VALUE=DURATION:PT1H
X-Robots-Tag:noindex
X-PUBLISHED-TTL:PT1H
BEGIN:VTIMEZONE
TZID:UTC
BEGIN:STANDARD
TZOFFSETFROM:+0000
TZOFFSETTO:+0000
TZNAME:UTC
DTSTART:20230101T000000
END:STANDARD
END:VTIMEZONE
BEGIN:VEVENT
DTSTART;VALUE=DATE:20250523
DTEND;VALUE=DATE:20250525
DTSTAMP:20260424T160228
CREATED:20250514T170231Z
LAST-MODIFIED:20250514T170231Z
UID:10000691-1747958400-1748131199@greenvilleconventioncenter.com
SUMMARY:Spa Blowout - Hot Tubs & Swim Spas
DESCRIPTION:
URL:https://greenvilleconventioncenter.com/event/spa-blowout-hot-tubs-swim-spas/
LOCATION:Exhibit Hall C
END:VEVENT
BEGIN:VEVENT
DTSTART;VALUE=DATE:20250220
DTEND;VALUE=DATE:20250224
DTSTAMP:20260424T160228
CREATED:20240305T193758Z
LAST-MODIFIED:20240305T193758Z
UID:10000332-1740009600-1740355199@greenvilleconventioncenter.com
SUMMARY:Unnatural Resources Institute
DESCRIPTION:
URL:https://greenvilleconventioncenter.com/event/unnatural-resources-institute/
LOCATION:Exhibit Hall C
END:VEVENT
BEGIN:VEVENT
DTSTART;VALUE=DATE:20240924
DTEND;VALUE=DATE:20240925
DTSTAMP:20260424T160228
CREATED:20240911T145356Z
LAST-MODIFIED:20240911T145415Z
UID:10000485-1727136000-1727222399@greenvilleconventioncenter.com
SUMMARY:Family Dollar
DESCRIPTION:
URL:https://greenvilleconventioncenter.com/event/family-dollar/
LOCATION:Exhibit Hall C
END:VEVENT
END:VCALENDAR