BEGIN:VCALENDAR
VERSION:2.0
PRODID:-//Greenville Convention Center - ECPv6.15.20//NONSGML v1.0//EN
CALSCALE:GREGORIAN
METHOD:PUBLISH
X-ORIGINAL-URL:https://greenvilleconventioncenter.com
X-WR-CALDESC:Events for Greenville Convention Center
REFRESH-INTERVAL;VALUE=DURATION:PT1H
X-Robots-Tag:noindex
X-PUBLISHED-TTL:PT1H
BEGIN:VTIMEZONE
TZID:UTC
BEGIN:STANDARD
TZOFFSETFROM:+0000
TZOFFSETTO:+0000
TZNAME:UTC
DTSTART:20230101T000000
END:STANDARD
END:VTIMEZONE
BEGIN:VEVENT
DTSTART;VALUE=DATE:20241213
DTEND;VALUE=DATE:20241214
DTSTAMP:20260424T130722
CREATED:20241017T202039Z
LAST-MODIFIED:20241017T202039Z
UID:10000503-1734048000-1734134399@greenvilleconventioncenter.com
SUMMARY:USMC Birthday Ball
DESCRIPTION:
URL:https://greenvilleconventioncenter.com/event/usmc-birthday-ball-25/
LOCATION:Exhibit Hall AB / Studios A&B
END:VEVENT
BEGIN:VEVENT
DTSTART;VALUE=DATE:20241019
DTEND;VALUE=DATE:20241020
DTSTAMP:20260424T130722
CREATED:20240404T130733Z
LAST-MODIFIED:20240404T130733Z
UID:10000368-1729296000-1729382399@greenvilleconventioncenter.com
SUMMARY:USMC Birthday Ball
DESCRIPTION:
URL:https://greenvilleconventioncenter.com/event/usmc-birthday-ball-21/
LOCATION:Exhibit Hall AB / Studios A&B
END:VEVENT
BEGIN:VEVENT
DTSTART;VALUE=DATE:20240813
DTEND;VALUE=DATE:20240817
DTSTAMP:20260424T130722
CREATED:20240301T212107Z
LAST-MODIFIED:20240301T212107Z
UID:10000328-1723507200-1723852799@greenvilleconventioncenter.com
SUMMARY:Ways of Knowing Symposia Series - Evidence for Action
DESCRIPTION:
URL:https://greenvilleconventioncenter.com/event/ways-of-knowing-symposia-series-evidence-for-action/
LOCATION:Exhibit Hall AB / Studios A&B
END:VEVENT
END:VCALENDAR