BEGIN:VCALENDAR
VERSION:2.0
PRODID:-//Greenville Convention Center - ECPv6.15.20//NONSGML v1.0//EN
CALSCALE:GREGORIAN
METHOD:PUBLISH
X-WR-CALNAME:Greenville Convention Center
X-ORIGINAL-URL:https://greenvilleconventioncenter.com
X-WR-CALDESC:Events for Greenville Convention Center
REFRESH-INTERVAL;VALUE=DURATION:PT1H
X-Robots-Tag:noindex
X-PUBLISHED-TTL:PT1H
BEGIN:VTIMEZONE
TZID:UTC
BEGIN:STANDARD
TZOFFSETFROM:+0000
TZOFFSETTO:+0000
TZNAME:UTC
DTSTART:20220101T000000
END:STANDARD
END:VTIMEZONE
BEGIN:VEVENT
DTSTART;VALUE=DATE:20241215
DTEND;VALUE=DATE:20241216
DTSTAMP:20260424T124137
CREATED:20241209T191630Z
LAST-MODIFIED:20241209T191630Z
UID:10000519-1734220800-1734307199@greenvilleconventioncenter.com
SUMMARY:The Promised Learning Center
DESCRIPTION:
URL:https://greenvilleconventioncenter.com/event/the-promised-learning-center/
LOCATION:Emerald Room
END:VEVENT
BEGIN:VEVENT
DTSTART;VALUE=DATE:20241214
DTEND;VALUE=DATE:20241215
DTSTAMP:20260424T124137
CREATED:20240924T154416Z
LAST-MODIFIED:20240924T154416Z
UID:10000495-1734134400-1734220799@greenvilleconventioncenter.com
SUMMARY:First Responders Appreciation Dinner
DESCRIPTION:
URL:https://greenvilleconventioncenter.com/event/first-responders-appreciation-dinner/
LOCATION:Emerald Room
END:VEVENT
BEGIN:VEVENT
DTSTART;VALUE=DATE:20241208
DTEND;VALUE=DATE:20241209
DTSTAMP:20260424T124137
CREATED:20240924T143256Z
LAST-MODIFIED:20240924T143256Z
UID:10000492-1733616000-1733702399@greenvilleconventioncenter.com
SUMMARY:Cross River Therapy Christmas Party
DESCRIPTION:
URL:https://greenvilleconventioncenter.com/event/cross-river-therapy-christmas-party/
LOCATION:Emerald Room
END:VEVENT
BEGIN:VEVENT
DTSTART;TZID=UTC:20241027T080000
DTEND;TZID=UTC:20241027T170000
DTSTAMP:20260424T124137
CREATED:20240612T133609Z
LAST-MODIFIED:20240612T133609Z
UID:10000428-1730016000-1730048400@greenvilleconventioncenter.com
SUMMARY:Spirit of Truth Worship Center - Pastor Appreciation Banquet
DESCRIPTION:
URL:https://greenvilleconventioncenter.com/event/spirit-of-truth-worship-center-pastor-appreciation-banquet/
LOCATION:Emerald Room
END:VEVENT
BEGIN:VEVENT
DTSTART;VALUE=DATE:20241005
DTEND;VALUE=DATE:20241006
DTSTAMP:20260424T124137
CREATED:20240311T001046Z
LAST-MODIFIED:20240311T001046Z
UID:10000334-1728086400-1728172799@greenvilleconventioncenter.com
SUMMARY:Andrews ♥ Hinton Wedding
DESCRIPTION:
URL:https://greenvilleconventioncenter.com/event/andrews-%e2%99%a5-hinton-wedding/
LOCATION:Emerald Room
END:VEVENT
BEGIN:VEVENT
DTSTART;VALUE=DATE:20240927
DTEND;VALUE=DATE:20240928
DTSTAMP:20260424T124137
CREATED:20241218T205310Z
LAST-MODIFIED:20241218T205310Z
UID:10000529-1727395200-1727481599@greenvilleconventioncenter.com
SUMMARY:The Rock Ministries - Men & Women's Fellowship
DESCRIPTION:
URL:https://greenvilleconventioncenter.com/event/the-rock-ministries-men-womens-fellowship/
LOCATION:Emerald Room
END:VEVENT
BEGIN:VEVENT
DTSTART;VALUE=DATE:20240921
DTEND;VALUE=DATE:20240922
DTSTAMP:20260424T124137
CREATED:20240311T002952Z
LAST-MODIFIED:20240515T181446Z
UID:10000335-1726876800-1726963199@greenvilleconventioncenter.com
SUMMARY:Hilda & Wilma's 60th Birthday
DESCRIPTION:
URL:https://greenvilleconventioncenter.com/event/hilda-cobbs-60th-birthday/
LOCATION:Emerald Room
END:VEVENT
BEGIN:VEVENT
DTSTART;VALUE=DATE:20240914
DTEND;VALUE=DATE:20240915
DTSTAMP:20260424T124137
CREATED:20240510T144200Z
LAST-MODIFIED:20240510T144200Z
UID:10000400-1726272000-1726358399@greenvilleconventioncenter.com
SUMMARY:Williams ♥ Rogers Wedding
DESCRIPTION:
URL:https://greenvilleconventioncenter.com/event/williams-%e2%99%a5-rogers-wedding/
LOCATION:Emerald Room
END:VEVENT
BEGIN:VEVENT
DTSTART;VALUE=DATE:20240831
DTEND;VALUE=DATE:20240901
DTSTAMP:20260424T124137
CREATED:20240318T202050Z
LAST-MODIFIED:20240318T202050Z
UID:10000341-1725062400-1725148799@greenvilleconventioncenter.com
SUMMARY:Richardson ♥ Lee Wedding
DESCRIPTION:
URL:https://greenvilleconventioncenter.com/event/richardson-%e2%99%a5-lee-wedding/
LOCATION:Emerald Room
END:VEVENT
BEGIN:VEVENT
DTSTART;VALUE=DATE:20240824
DTEND;VALUE=DATE:20240825
DTSTAMP:20260424T124137
CREATED:20240118T203313Z
LAST-MODIFIED:20240118T203313Z
UID:10000285-1724457600-1724543999@greenvilleconventioncenter.com
SUMMARY:Miller 50th Birtday
DESCRIPTION:
URL:https://greenvilleconventioncenter.com/event/miller-50th-birtday/
LOCATION:Emerald Room
END:VEVENT
BEGIN:VEVENT
DTSTART;VALUE=DATE:20240817
DTEND;VALUE=DATE:20240818
DTSTAMP:20260424T124137
CREATED:20240129T153825Z
LAST-MODIFIED:20240129T153825Z
UID:10000289-1723852800-1723939199@greenvilleconventioncenter.com
SUMMARY:Anderson ♥ Hill Wedding
DESCRIPTION:
URL:https://greenvilleconventioncenter.com/event/anderson-%e2%99%a5-hill-wedding/
LOCATION:Emerald Room
END:VEVENT
BEGIN:VEVENT
DTSTART;VALUE=DATE:20240804
DTEND;VALUE=DATE:20240805
DTSTAMP:20260424T124137
CREATED:20240522T192559Z
LAST-MODIFIED:20240522T192559Z
UID:10000410-1722729600-1722815999@greenvilleconventioncenter.com
SUMMARY:Private Event
DESCRIPTION:
URL:https://greenvilleconventioncenter.com/event/private-event-4/
LOCATION:Emerald Room
END:VEVENT
BEGIN:VEVENT
DTSTART;VALUE=DATE:20240803
DTEND;VALUE=DATE:20240804
DTSTAMP:20260424T124137
CREATED:20240731T174421Z
LAST-MODIFIED:20240731T174421Z
UID:10000444-1722643200-1722729599@greenvilleconventioncenter.com
SUMMARY:Suggs Family Reunion
DESCRIPTION:
URL:https://greenvilleconventioncenter.com/event/suggs-family-reunion/
LOCATION:Emerald Room
END:VEVENT
BEGIN:VEVENT
DTSTART;VALUE=DATE:20240731
DTEND;VALUE=DATE:20240801
DTSTAMP:20260424T124137
CREATED:20240318T200437Z
LAST-MODIFIED:20240318T200437Z
UID:10000340-1722384000-1722470399@greenvilleconventioncenter.com
SUMMARY:Keyes ♥ Mills Wedding
DESCRIPTION:
URL:https://greenvilleconventioncenter.com/event/keyes-%e2%99%a5-mills-wedding/
LOCATION:Emerald Room
END:VEVENT
BEGIN:VEVENT
DTSTART;VALUE=DATE:20240720
DTEND;VALUE=DATE:20240721
DTSTAMP:20260424T124137
CREATED:20240328T131023Z
LAST-MODIFIED:20240328T131023Z
UID:10000353-1721433600-1721519999@greenvilleconventioncenter.com
SUMMARY:Black/Parker Family Reunion
DESCRIPTION:
URL:https://greenvilleconventioncenter.com/event/black-parker-family-reunion/
LOCATION:Emerald Room
END:VEVENT
BEGIN:VEVENT
DTSTART;TZID=UTC:20240629T180000
DTEND;TZID=UTC:20240629T220000
DTSTAMP:20260424T124137
CREATED:20231102T144537Z
LAST-MODIFIED:20240611T132726Z
UID:10000223-1719684000-1719698400@greenvilleconventioncenter.com
SUMMARY:Harper/Heath Family Reunion
DESCRIPTION:
URL:https://greenvilleconventioncenter.com/event/perkins-family-gathering/
LOCATION:Emerald Room
END:VEVENT
BEGIN:VEVENT
DTSTART;VALUE=DATE:20240618
DTEND;VALUE=DATE:20240621
DTSTAMP:20260424T124137
CREATED:20240611T182625Z
LAST-MODIFIED:20240611T182625Z
UID:10000420-1718668800-1718927999@greenvilleconventioncenter.com
SUMMARY:Private Event
DESCRIPTION:
URL:https://greenvilleconventioncenter.com/event/private-event-5/
LOCATION:Emerald Room
END:VEVENT
BEGIN:VEVENT
DTSTART;VALUE=DATE:20240504
DTEND;VALUE=DATE:20240505
DTSTAMP:20260424T124137
CREATED:20231024T160035Z
LAST-MODIFIED:20231024T160035Z
UID:10000200-1714780800-1714867199@greenvilleconventioncenter.com
SUMMARY:Brown ♥ Little Wedding
DESCRIPTION:
URL:https://greenvilleconventioncenter.com/event/brown-%e2%99%a5-little-wedding/
LOCATION:Emerald Room
END:VEVENT
BEGIN:VEVENT
DTSTART;VALUE=DATE:20240428
DTEND;VALUE=DATE:20240429
DTSTAMP:20260424T124137
CREATED:20231024T144541Z
LAST-MODIFIED:20231024T144650Z
UID:10000185-1714262400-1714348799@greenvilleconventioncenter.com
SUMMARY:Golden Eagle Awards
DESCRIPTION:
URL:https://greenvilleconventioncenter.com/event/golden-eagle-awards/
LOCATION:Emerald Room
END:VEVENT
BEGIN:VEVENT
DTSTART;VALUE=DATE:20240420
DTEND;VALUE=DATE:20240421
DTSTAMP:20260424T124137
CREATED:20240402T195757Z
LAST-MODIFIED:20240402T195757Z
UID:10000365-1713571200-1713657599@greenvilleconventioncenter.com
SUMMARY:Church on Fire Ministries
DESCRIPTION:
URL:https://greenvilleconventioncenter.com/event/church-on-fire-ministries/
LOCATION:Emerald Room
END:VEVENT
BEGIN:VEVENT
DTSTART;VALUE=DATE:20240402
DTEND;VALUE=DATE:20240404
DTSTAMP:20260424T124137
CREATED:20240328T123934Z
LAST-MODIFIED:20240328T123934Z
UID:10000350-1712016000-1712188799@greenvilleconventioncenter.com
SUMMARY:Wawa\, Inc.
DESCRIPTION:
URL:https://greenvilleconventioncenter.com/event/wawa-inc/
LOCATION:Emerald Room
END:VEVENT
BEGIN:VEVENT
DTSTART;VALUE=DATE:20240328
DTEND;VALUE=DATE:20240329
DTSTAMP:20260424T124137
CREATED:20231102T145254Z
LAST-MODIFIED:20231102T145254Z
UID:10000224-1711584000-1711670399@greenvilleconventioncenter.com
SUMMARY:Greene Central High School Prom
DESCRIPTION:
URL:https://greenvilleconventioncenter.com/event/greene-central-high-school-prom/
LOCATION:Emerald Room
END:VEVENT
BEGIN:VEVENT
DTSTART;VALUE=DATE:20240302
DTEND;VALUE=DATE:20240303
DTSTAMP:20260424T124137
CREATED:20240126T213009Z
LAST-MODIFIED:20240126T213009Z
UID:10000288-1709337600-1709423999@greenvilleconventioncenter.com
SUMMARY:Hartley Birthday Party
DESCRIPTION:
URL:https://greenvilleconventioncenter.com/event/hartley-birthday-party/
LOCATION:Emerald Room
END:VEVENT
BEGIN:VEVENT
DTSTART;VALUE=DATE:20240227
DTEND;VALUE=DATE:20240228
DTSTAMP:20260424T124137
CREATED:20240111T135440Z
LAST-MODIFIED:20240111T135440Z
UID:10000265-1708992000-1709078399@greenvilleconventioncenter.com
SUMMARY:Harvey's Fertilizer & Gas Co.
DESCRIPTION:
URL:https://greenvilleconventioncenter.com/event/harveys-fertilizer-gas-co/
LOCATION:Emerald Room
END:VEVENT
BEGIN:VEVENT
DTSTART;VALUE=DATE:20240224
DTEND;VALUE=DATE:20240225
DTSTAMP:20260424T124137
CREATED:20231024T161250Z
LAST-MODIFIED:20231024T161250Z
UID:10000205-1708732800-1708819199@greenvilleconventioncenter.com
SUMMARY:Coston Sweet 16 Birthday Party
DESCRIPTION:
URL:https://greenvilleconventioncenter.com/event/coston-sweet-16-birthday-party/
LOCATION:Emerald Room
END:VEVENT
BEGIN:VEVENT
DTSTART;VALUE=DATE:20240213
DTEND;VALUE=DATE:20240214
DTSTAMP:20260424T124137
CREATED:20240104T204843Z
LAST-MODIFIED:20240104T205037Z
UID:10000262-1707782400-1707868799@greenvilleconventioncenter.com
SUMMARY:Investors Title Insurance
DESCRIPTION:
URL:https://greenvilleconventioncenter.com/event/investors-title-insurance/
LOCATION:Emerald Room
END:VEVENT
BEGIN:VEVENT
DTSTART;VALUE=DATE:20240113
DTEND;VALUE=DATE:20240114
DTSTAMP:20260424T124137
CREATED:20231024T155256Z
LAST-MODIFIED:20231024T155256Z
UID:10000198-1705104000-1705190399@greenvilleconventioncenter.com
SUMMARY:Holley Birthday Party
DESCRIPTION:
URL:https://greenvilleconventioncenter.com/event/holley-birthday-party/
LOCATION:Emerald Room
END:VEVENT
BEGIN:VEVENT
DTSTART;VALUE=DATE:20231219
DTEND;VALUE=DATE:20231220
DTSTAMP:20260424T124137
CREATED:20231213T150344Z
LAST-MODIFIED:20231213T150344Z
UID:10000247-1702944000-1703030399@greenvilleconventioncenter.com
SUMMARY:Edgecombe Furniture
DESCRIPTION:
URL:https://greenvilleconventioncenter.com/event/edgecombe-furniture/
LOCATION:Emerald Room
END:VEVENT
BEGIN:VEVENT
DTSTART;VALUE=DATE:20231215
DTEND;VALUE=DATE:20231216
DTSTAMP:20260424T124137
CREATED:20230912T143815Z
LAST-MODIFIED:20230912T143815Z
UID:10000181-1702598400-1702684799@greenvilleconventioncenter.com
SUMMARY:Team Supreme
DESCRIPTION:
URL:https://greenvilleconventioncenter.com/event/team-supreme/
LOCATION:Emerald Room
END:VEVENT
BEGIN:VEVENT
DTSTART;VALUE=DATE:20231209
DTEND;VALUE=DATE:20231210
DTSTAMP:20260424T124137
CREATED:20230912T143135Z
LAST-MODIFIED:20230912T143135Z
UID:10000172-1702080000-1702166399@greenvilleconventioncenter.com
SUMMARY:Land/Simmons Wedding
DESCRIPTION:
URL:https://greenvilleconventioncenter.com/event/land-simmons-wedding/
LOCATION:Emerald Room
END:VEVENT
END:VCALENDAR