BEGIN:VCALENDAR
VERSION:2.0
PRODID:-//Greenville Convention Center - ECPv6.15.20//NONSGML v1.0//EN
CALSCALE:GREGORIAN
METHOD:PUBLISH
X-WR-CALNAME:Greenville Convention Center
X-ORIGINAL-URL:https://greenvilleconventioncenter.com
X-WR-CALDESC:Events for Greenville Convention Center
REFRESH-INTERVAL;VALUE=DURATION:PT1H
X-Robots-Tag:noindex
X-PUBLISHED-TTL:PT1H
BEGIN:VTIMEZONE
TZID:UTC
BEGIN:STANDARD
TZOFFSETFROM:+0000
TZOFFSETTO:+0000
TZNAME:UTC
DTSTART:20230101T000000
END:STANDARD
END:VTIMEZONE
BEGIN:VEVENT
DTSTART;VALUE=DATE:20250912
DTEND;VALUE=DATE:20250913
DTSTAMP:20260424T093335
CREATED:20250626T183629Z
LAST-MODIFIED:20250626T183629Z
UID:10000722-1757635200-1757721599@greenvilleconventioncenter.com
SUMMARY:Privat Event
DESCRIPTION:
URL:https://greenvilleconventioncenter.com/event/privat-event/
LOCATION:Emerald Room
END:VEVENT
BEGIN:VEVENT
DTSTART;VALUE=DATE:20250830
DTEND;VALUE=DATE:20250831
DTSTAMP:20260424T093335
CREATED:20250113T162003Z
LAST-MODIFIED:20250113T162003Z
UID:10000548-1756512000-1756598399@greenvilleconventioncenter.com
SUMMARY:Murray & Gibbs Family Reunion
DESCRIPTION:
URL:https://greenvilleconventioncenter.com/event/murray-gibbs-family-reunion/
LOCATION:Emerald Room
END:VEVENT
BEGIN:VEVENT
DTSTART;VALUE=DATE:20250816
DTEND;VALUE=DATE:20250817
DTSTAMP:20260424T093335
CREATED:20250624T181414Z
LAST-MODIFIED:20250624T181414Z
UID:10000717-1755302400-1755388799@greenvilleconventioncenter.com
SUMMARY:Hunt Wedding
DESCRIPTION:
URL:https://greenvilleconventioncenter.com/event/hunt-wedding/
LOCATION:Emerald Room
END:VEVENT
BEGIN:VEVENT
DTSTART;TZID=UTC:20250814T080000
DTEND;TZID=UTC:20250814T110000
DTSTAMP:20260424T093335
CREATED:20250626T194630Z
LAST-MODIFIED:20250626T194630Z
UID:10000723-1755158400-1755169200@greenvilleconventioncenter.com
SUMMARY:Greenville-Pitt County Chamber of Commerce Woman's Conference
DESCRIPTION:
URL:https://greenvilleconventioncenter.com/event/greenville-pitt-county-chamber-of-commerce-womans-conference/
LOCATION:Emerald Room
END:VEVENT
BEGIN:VEVENT
DTSTART;VALUE=DATE:20250808
DTEND;VALUE=DATE:20250809
DTSTAMP:20260424T093335
CREATED:20241230T190648Z
LAST-MODIFIED:20241230T190648Z
UID:10000538-1754611200-1754697599@greenvilleconventioncenter.com
SUMMARY:Spencer/Gibbs Family Reunion
DESCRIPTION:
URL:https://greenvilleconventioncenter.com/event/spencer-gibbs-family-reunion/
LOCATION:Emerald Room
END:VEVENT
BEGIN:VEVENT
DTSTART;VALUE=DATE:20250726
DTEND;VALUE=DATE:20250727
DTSTAMP:20260424T093335
CREATED:20240731T160727Z
LAST-MODIFIED:20250123T173045Z
UID:10000439-1753488000-1753574399@greenvilleconventioncenter.com
SUMMARY:Mooring Retirement Party
DESCRIPTION:
URL:https://greenvilleconventioncenter.com/event/private-event-7/
LOCATION:Emerald Room
END:VEVENT
BEGIN:VEVENT
DTSTART;TZID=UTC:20250719T173000
DTEND;TZID=UTC:20250719T220000
DTSTAMP:20260424T093335
CREATED:20241226T201134Z
LAST-MODIFIED:20241226T201155Z
UID:10000536-1752946200-1752962400@greenvilleconventioncenter.com
SUMMARY:JH Rose High School Class of 1985 Reunion
DESCRIPTION:
URL:https://greenvilleconventioncenter.com/event/jh-rose-high-school-class-of-1985-reunion/
LOCATION:Emerald Room
END:VEVENT
BEGIN:VEVENT
DTSTART;VALUE=DATE:20250712
DTEND;VALUE=DATE:20250713
DTSTAMP:20260424T093335
CREATED:20250226T211500Z
LAST-MODIFIED:20250226T211500Z
UID:10000623-1752278400-1752364799@greenvilleconventioncenter.com
SUMMARY:Vice Bishop Eloise Sessoms Retirement Celebration
DESCRIPTION:
URL:https://greenvilleconventioncenter.com/event/vice-bishop-eloise-sessoms-retirement-celebration/
LOCATION:Emerald Room
END:VEVENT
BEGIN:VEVENT
DTSTART;VALUE=DATE:20250705
DTEND;VALUE=DATE:20250706
DTSTAMP:20260424T093335
CREATED:20250408T181627Z
LAST-MODIFIED:20250408T181627Z
UID:10000653-1751673600-1751759999@greenvilleconventioncenter.com
SUMMARY:Leavy Family Reunion
DESCRIPTION:
URL:https://greenvilleconventioncenter.com/event/leavy-family-reunion/
LOCATION:Emerald Room
END:VEVENT
BEGIN:VEVENT
DTSTART;VALUE=DATE:20250620
DTEND;VALUE=DATE:20250621
DTSTAMP:20260424T093335
CREATED:20250603T182112Z
LAST-MODIFIED:20250603T182157Z
UID:10000704-1750377600-1750463999@greenvilleconventioncenter.com
SUMMARY:Sunshine Schools
DESCRIPTION:
URL:https://greenvilleconventioncenter.com/event/sunshine-schools/
LOCATION:Emerald Room
END:VEVENT
BEGIN:VEVENT
DTSTART;TZID=UTC:20250607T140000
DTEND;TZID=UTC:20250607T190000
DTSTAMP:20260424T093335
CREATED:20240924T145416Z
LAST-MODIFIED:20240924T145416Z
UID:10000493-1749304800-1749322800@greenvilleconventioncenter.com
SUMMARY:Daniels 50th Wedding Anniversary
DESCRIPTION:
URL:https://greenvilleconventioncenter.com/event/daniels-50th-wedding-anniversary/
LOCATION:Emerald Room
END:VEVENT
BEGIN:VEVENT
DTSTART;VALUE=DATE:20250525
DTEND;VALUE=DATE:20250526
DTSTAMP:20260424T093335
CREATED:20240221T195305Z
LAST-MODIFIED:20240221T195305Z
UID:10000317-1748131200-1748217599@greenvilleconventioncenter.com
SUMMARY:Edwards ♥ Roach Wedding
DESCRIPTION:
URL:https://greenvilleconventioncenter.com/event/edwards-%e2%99%a5-roach-wedding/
LOCATION:Emerald Room
END:VEVENT
BEGIN:VEVENT
DTSTART;VALUE=DATE:20250502
DTEND;VALUE=DATE:20250503
DTSTAMP:20260424T093335
CREATED:20240528T161317Z
LAST-MODIFIED:20240528T161317Z
UID:10000419-1746144000-1746230399@greenvilleconventioncenter.com
SUMMARY:Ayden-Grifton High School Prom
DESCRIPTION:
URL:https://greenvilleconventioncenter.com/event/ayden-grifton-high-school-prom/
LOCATION:Emerald Room
END:VEVENT
BEGIN:VEVENT
DTSTART;VALUE=DATE:20250426
DTEND;VALUE=DATE:20250427
DTSTAMP:20260424T093335
CREATED:20250213T205414Z
LAST-MODIFIED:20250213T205414Z
UID:10000607-1745625600-1745711999@greenvilleconventioncenter.com
SUMMARY:Funeral Directors & Morticians of NC Eastern District
DESCRIPTION:
URL:https://greenvilleconventioncenter.com/event/funeral-directors-morticians-of-nc-eastern-district/
LOCATION:Emerald Room
END:VEVENT
BEGIN:VEVENT
DTSTART;VALUE=DATE:20250412
DTEND;VALUE=DATE:20250413
DTSTAMP:20260424T093335
CREATED:20240318T194751Z
LAST-MODIFIED:20240318T194751Z
UID:10000339-1744416000-1744502399@greenvilleconventioncenter.com
SUMMARY:Anderson ♥ Majette Wedding
DESCRIPTION:
URL:https://greenvilleconventioncenter.com/event/anderson-%e2%99%a5-majette-wedding/
LOCATION:Emerald Room
END:VEVENT
BEGIN:VEVENT
DTSTART;VALUE=DATE:20250308
DTEND;VALUE=DATE:20250309
DTSTAMP:20260424T093335
CREATED:20240328T150808Z
LAST-MODIFIED:20240328T150808Z
UID:10000359-1741392000-1741478399@greenvilleconventioncenter.com
SUMMARY:ENC Hub Church
DESCRIPTION:
URL:https://greenvilleconventioncenter.com/event/enc-hub-church/
LOCATION:Emerald Room
END:VEVENT
BEGIN:VEVENT
DTSTART;VALUE=DATE:20250222
DTEND;VALUE=DATE:20250223
DTSTAMP:20260424T093335
CREATED:20241230T194143Z
LAST-MODIFIED:20241230T194143Z
UID:10000540-1740182400-1740268799@greenvilleconventioncenter.com
SUMMARY:Private Event
DESCRIPTION:
URL:https://greenvilleconventioncenter.com/event/private-event-11/
LOCATION:Emerald Room
END:VEVENT
BEGIN:VEVENT
DTSTART;VALUE=DATE:20250220
DTEND;VALUE=DATE:20250222
DTSTAMP:20260424T093335
CREATED:20250219T180934Z
LAST-MODIFIED:20250501T202658Z
UID:10000614-1740009600-1740182399@greenvilleconventioncenter.com
SUMMARY:AHEC Scholar Event (Break-Out Meetings)
DESCRIPTION:
URL:https://greenvilleconventioncenter.com/event/ahec-scholar-event/
LOCATION:Emerald Room
END:VEVENT
BEGIN:VEVENT
DTSTART;VALUE=DATE:20250218
DTEND;VALUE=DATE:20250219
DTSTAMP:20260424T093335
CREATED:20241017T163312Z
LAST-MODIFIED:20241017T163503Z
UID:10000501-1739836800-1739923199@greenvilleconventioncenter.com
SUMMARY:Investor's Title Insurance
DESCRIPTION:
URL:https://greenvilleconventioncenter.com/event/investors-title-insurance-2/
LOCATION:Emerald Room
END:VEVENT
BEGIN:VEVENT
DTSTART;TZID=UTC:20250215T180000
DTEND;TZID=UTC:20250215T220000
DTSTAMP:20260424T093335
CREATED:20240611T205703Z
LAST-MODIFIED:20240611T205703Z
UID:10000425-1739642400-1739656800@greenvilleconventioncenter.com
SUMMARY:Wife 2 Wife Support
DESCRIPTION:
URL:https://greenvilleconventioncenter.com/event/wife-2-wife-support/
LOCATION:Emerald Room
END:VEVENT
BEGIN:VEVENT
DTSTART;VALUE=DATE:20250213
DTEND;VALUE=DATE:20250214
DTSTAMP:20260424T093335
CREATED:20250113T175911Z
LAST-MODIFIED:20250113T175911Z
UID:10000549-1739404800-1739491199@greenvilleconventioncenter.com
SUMMARY:Harvey's Fertilizer & Gas Company
DESCRIPTION:
URL:https://greenvilleconventioncenter.com/event/harveys-fertilizer-gas-company/
LOCATION:Emerald Room
END:VEVENT
BEGIN:VEVENT
DTSTART;TZID=UTC:20250127T180000
DTEND;TZID=UTC:20250127T210000
DTSTAMP:20260424T093335
CREATED:20241226T192713Z
LAST-MODIFIED:20250120T200338Z
UID:10000533-1738000800-1738011600@greenvilleconventioncenter.com
SUMMARY:Chandler Concrete Company
DESCRIPTION:
URL:https://greenvilleconventioncenter.com/event/chandler-concrete-company/
LOCATION:Emerald Room
END:VEVENT
BEGIN:VEVENT
DTSTART;VALUE=DATE:20250118
DTEND;VALUE=DATE:20250119
DTSTAMP:20260424T093335
CREATED:20241211T143638Z
LAST-MODIFIED:20241211T143638Z
UID:10000522-1737158400-1737244799@greenvilleconventioncenter.com
SUMMARY:Artis Birthday Party
DESCRIPTION:
URL:https://greenvilleconventioncenter.com/event/artis-birthday-party/
LOCATION:Emerald Room
END:VEVENT
BEGIN:VEVENT
DTSTART;VALUE=DATE:20250111
DTEND;VALUE=DATE:20250112
DTSTAMP:20260424T093335
CREATED:20240916T184134Z
LAST-MODIFIED:20240916T184134Z
UID:10000489-1736553600-1736639999@greenvilleconventioncenter.com
SUMMARY:Private Event
DESCRIPTION:
URL:https://greenvilleconventioncenter.com/event/private-event-9/
LOCATION:Emerald Room
END:VEVENT
BEGIN:VEVENT
DTSTART;VALUE=DATE:20241215
DTEND;VALUE=DATE:20241216
DTSTAMP:20260424T093335
CREATED:20241209T191630Z
LAST-MODIFIED:20241209T191630Z
UID:10000519-1734220800-1734307199@greenvilleconventioncenter.com
SUMMARY:The Promised Learning Center
DESCRIPTION:
URL:https://greenvilleconventioncenter.com/event/the-promised-learning-center/
LOCATION:Emerald Room
END:VEVENT
BEGIN:VEVENT
DTSTART;VALUE=DATE:20241214
DTEND;VALUE=DATE:20241215
DTSTAMP:20260424T093335
CREATED:20240924T154416Z
LAST-MODIFIED:20240924T154416Z
UID:10000495-1734134400-1734220799@greenvilleconventioncenter.com
SUMMARY:First Responders Appreciation Dinner
DESCRIPTION:
URL:https://greenvilleconventioncenter.com/event/first-responders-appreciation-dinner/
LOCATION:Emerald Room
END:VEVENT
BEGIN:VEVENT
DTSTART;VALUE=DATE:20241208
DTEND;VALUE=DATE:20241209
DTSTAMP:20260424T093335
CREATED:20240924T143256Z
LAST-MODIFIED:20240924T143256Z
UID:10000492-1733616000-1733702399@greenvilleconventioncenter.com
SUMMARY:Cross River Therapy Christmas Party
DESCRIPTION:
URL:https://greenvilleconventioncenter.com/event/cross-river-therapy-christmas-party/
LOCATION:Emerald Room
END:VEVENT
BEGIN:VEVENT
DTSTART;TZID=UTC:20241027T080000
DTEND;TZID=UTC:20241027T170000
DTSTAMP:20260424T093335
CREATED:20240612T133609Z
LAST-MODIFIED:20240612T133609Z
UID:10000428-1730016000-1730048400@greenvilleconventioncenter.com
SUMMARY:Spirit of Truth Worship Center - Pastor Appreciation Banquet
DESCRIPTION:
URL:https://greenvilleconventioncenter.com/event/spirit-of-truth-worship-center-pastor-appreciation-banquet/
LOCATION:Emerald Room
END:VEVENT
BEGIN:VEVENT
DTSTART;VALUE=DATE:20241005
DTEND;VALUE=DATE:20241006
DTSTAMP:20260424T093335
CREATED:20240311T001046Z
LAST-MODIFIED:20240311T001046Z
UID:10000334-1728086400-1728172799@greenvilleconventioncenter.com
SUMMARY:Andrews ♥ Hinton Wedding
DESCRIPTION:
URL:https://greenvilleconventioncenter.com/event/andrews-%e2%99%a5-hinton-wedding/
LOCATION:Emerald Room
END:VEVENT
BEGIN:VEVENT
DTSTART;VALUE=DATE:20240927
DTEND;VALUE=DATE:20240928
DTSTAMP:20260424T093335
CREATED:20241218T205310Z
LAST-MODIFIED:20241218T205310Z
UID:10000529-1727395200-1727481599@greenvilleconventioncenter.com
SUMMARY:The Rock Ministries - Men & Women's Fellowship
DESCRIPTION:
URL:https://greenvilleconventioncenter.com/event/the-rock-ministries-men-womens-fellowship/
LOCATION:Emerald Room
END:VEVENT
END:VCALENDAR