BEGIN:VCALENDAR
VERSION:2.0
PRODID:-//Greenville Convention Center - ECPv6.15.20//NONSGML v1.0//EN
CALSCALE:GREGORIAN
METHOD:PUBLISH
X-WR-CALNAME:Greenville Convention Center
X-ORIGINAL-URL:https://greenvilleconventioncenter.com
X-WR-CALDESC:Events for Greenville Convention Center
REFRESH-INTERVAL;VALUE=DURATION:PT1H
X-Robots-Tag:noindex
X-PUBLISHED-TTL:PT1H
BEGIN:VTIMEZONE
TZID:UTC
BEGIN:STANDARD
TZOFFSETFROM:+0000
TZOFFSETTO:+0000
TZNAME:UTC
DTSTART:20220101T000000
END:STANDARD
END:VTIMEZONE
BEGIN:VEVENT
DTSTART;VALUE=DATE:20231216
DTEND;VALUE=DATE:20231217
DTSTAMP:20260425T221222
CREATED:20230912T143937Z
LAST-MODIFIED:20230912T143937Z
UID:10000183-1702684800-1702771199@greenvilleconventioncenter.com
SUMMARY:Coastal Med Transport
DESCRIPTION:
URL:https://greenvilleconventioncenter.com/event/coastal-med-transport/
LOCATION:A
END:VEVENT
BEGIN:VEVENT
DTSTART;VALUE=DATE:20231215
DTEND;VALUE=DATE:20231216
DTSTAMP:20260425T221222
CREATED:20230912T143743Z
LAST-MODIFIED:20230912T143743Z
UID:10000180-1702598400-1702684799@greenvilleconventioncenter.com
SUMMARY:Omega Psi Phi
DESCRIPTION:
URL:https://greenvilleconventioncenter.com/event/omega-psi-phi/
LOCATION:A
END:VEVENT
BEGIN:VEVENT
DTSTART;VALUE=DATE:20231209
DTEND;VALUE=DATE:20231210
DTSTAMP:20260425T221222
CREATED:20230912T143237Z
LAST-MODIFIED:20230912T143237Z
UID:10000174-1702080000-1702166399@greenvilleconventioncenter.com
SUMMARY:Barnes Birthday
DESCRIPTION:
URL:https://greenvilleconventioncenter.com/event/barnes-birthday/
LOCATION:A
END:VEVENT
BEGIN:VEVENT
DTSTART;VALUE=DATE:20231021
DTEND;VALUE=DATE:20231022
DTSTAMP:20260425T221222
CREATED:20230911T193657Z
LAST-MODIFIED:20230911T193657Z
UID:10000124-1697846400-1697932799@greenvilleconventioncenter.com
SUMMARY:Mt. Moriah
DESCRIPTION:
URL:https://greenvilleconventioncenter.com/event/mt-moriah/
LOCATION:A
END:VEVENT
BEGIN:VEVENT
DTSTART;VALUE=DATE:20231013
DTEND;VALUE=DATE:20231014
DTSTAMP:20260425T221222
CREATED:20230911T192511Z
LAST-MODIFIED:20230911T192511Z
UID:10000110-1697155200-1697241599@greenvilleconventioncenter.com
SUMMARY:Southside Senior Club
DESCRIPTION:
URL:https://greenvilleconventioncenter.com/event/southside-senior-club/
LOCATION:A
END:VEVENT
END:VCALENDAR