BEGIN:VCALENDAR
VERSION:2.0
PRODID:-//Greenville Convention Center - ECPv6.15.20//NONSGML v1.0//EN
CALSCALE:GREGORIAN
METHOD:PUBLISH
X-ORIGINAL-URL:https://greenvilleconventioncenter.com
X-WR-CALDESC:Events for Greenville Convention Center
REFRESH-INTERVAL;VALUE=DURATION:PT1H
X-Robots-Tag:noindex
X-PUBLISHED-TTL:PT1H
BEGIN:VTIMEZONE
TZID:UTC
BEGIN:STANDARD
TZOFFSETFROM:+0000
TZOFFSETTO:+0000
TZNAME:UTC
DTSTART:20230101T000000
END:STANDARD
END:VTIMEZONE
BEGIN:VEVENT
DTSTART;VALUE=DATE:20260418
DTEND;VALUE=DATE:20260419
DTSTAMP:20260423T025127
CREATED:20250415T185919Z
LAST-MODIFIED:20250501T210124Z
UID:10000665-1776470400-1776556799@greenvilleconventioncenter.com
SUMMARY:Tolulope's Birthday Party
DESCRIPTION:
URL:https://greenvilleconventioncenter.com/event/tolulopes-birthday-party/
LOCATION:3 Galleries
END:VEVENT
BEGIN:VEVENT
DTSTART;VALUE=DATE:20260404
DTEND;VALUE=DATE:20260405
DTSTAMP:20260423T025127
CREATED:20251112T144904Z
LAST-MODIFIED:20251112T144904Z
UID:10000818-1775260800-1775347199@greenvilleconventioncenter.com
SUMMARY:Adonai
DESCRIPTION:
URL:https://greenvilleconventioncenter.com/event/adonai/
LOCATION:3 Galleries
END:VEVENT
BEGIN:VEVENT
DTSTART;VALUE=DATE:20260228
DTEND;VALUE=DATE:20260301
DTSTAMP:20260423T025127
CREATED:20250930T185518Z
LAST-MODIFIED:20250930T185518Z
UID:10000804-1772236800-1772323199@greenvilleconventioncenter.com
SUMMARY:Hagans Vow Renewal
DESCRIPTION:
URL:https://greenvilleconventioncenter.com/event/hagans-vow-renewal/
LOCATION:3 Galleries
END:VEVENT
BEGIN:VEVENT
DTSTART;VALUE=DATE:20251220
DTEND;VALUE=DATE:20251221
DTSTAMP:20260423T025127
CREATED:20250218T203359Z
LAST-MODIFIED:20250707T150657Z
UID:10000611-1766188800-1766275199@greenvilleconventioncenter.com
SUMMARY:Brown/Parker Christmas Party
DESCRIPTION:
URL:https://greenvilleconventioncenter.com/event/daquans-30th-birthday-celebration/
LOCATION:3 Galleries
END:VEVENT
BEGIN:VEVENT
DTSTART;TZID=UTC:20251129T100000
DTEND;TZID=UTC:20251129T140000
DTSTAMP:20260423T025127
CREATED:20250714T184151Z
LAST-MODIFIED:20250714T184314Z
UID:10000749-1764410400-1764424800@greenvilleconventioncenter.com
SUMMARY:"The Appointed Time" - Motivational Conference
DESCRIPTION:
URL:https://greenvilleconventioncenter.com/event/the-appointed-time-motivational-conference/
LOCATION:3 Galleries
END:VEVENT
BEGIN:VEVENT
DTSTART;VALUE=DATE:20251025
DTEND;VALUE=DATE:20251026
DTSTAMP:20260423T025127
CREATED:20251003T135116Z
LAST-MODIFIED:20251003T135116Z
UID:10000805-1761350400-1761436799@greenvilleconventioncenter.com
SUMMARY:Private Event
DESCRIPTION:
URL:https://greenvilleconventioncenter.com/event/private-event-23/
LOCATION:3 Galleries
END:VEVENT
BEGIN:VEVENT
DTSTART;VALUE=DATE:20251018
DTEND;VALUE=DATE:20251019
DTSTAMP:20260423T025127
CREATED:20250408T202602Z
LAST-MODIFIED:20250408T202602Z
UID:10000656-1760745600-1760831999@greenvilleconventioncenter.com
SUMMARY:Bynum ♥ Hazell Wedding
DESCRIPTION:
URL:https://greenvilleconventioncenter.com/event/bynum-%e2%99%a5-hazell-wedding/
LOCATION:3 Galleries
END:VEVENT
BEGIN:VEVENT
DTSTART;TZID=UTC:20251004T180000
DTEND;TZID=UTC:20251004T220000
DTSTAMP:20260423T025127
CREATED:20250807T195906Z
LAST-MODIFIED:20250807T195906Z
UID:10000772-1759600800-1759615200@greenvilleconventioncenter.com
SUMMARY:Marsha Fulcher's 75th Birthday Celebration
DESCRIPTION:
URL:https://greenvilleconventioncenter.com/event/marsha-fulchers-75th-birthday-celebration/
LOCATION:3 Galleries
END:VEVENT
BEGIN:VEVENT
DTSTART;VALUE=DATE:20251004
DTEND;VALUE=DATE:20251005
DTSTAMP:20260423T025127
CREATED:20250306T195155Z
LAST-MODIFIED:20250306T195155Z
UID:10000631-1759536000-1759622399@greenvilleconventioncenter.com
SUMMARY:Sweet Hope Church
DESCRIPTION:
URL:https://greenvilleconventioncenter.com/event/sweet-hope-church-2/
LOCATION:3 Galleries
END:VEVENT
BEGIN:VEVENT
DTSTART;VALUE=DATE:20250920
DTEND;VALUE=DATE:20250921
DTSTAMP:20260423T025127
CREATED:20250724T201148Z
LAST-MODIFIED:20250724T201148Z
UID:10000757-1758326400-1758412799@greenvilleconventioncenter.com
SUMMARY:Lindsey 1st Birthday Party
DESCRIPTION:
URL:https://greenvilleconventioncenter.com/event/lindsey-1st-birthday-party/
LOCATION:3 Galleries
END:VEVENT
BEGIN:VEVENT
DTSTART;VALUE=DATE:20250913
DTEND;VALUE=DATE:20250914
DTSTAMP:20260423T025127
CREATED:20250707T183906Z
LAST-MODIFIED:20250707T183906Z
UID:10000740-1757721600-1757807999@greenvilleconventioncenter.com
SUMMARY:Walston/Gary Celebration
DESCRIPTION:
URL:https://greenvilleconventioncenter.com/event/walston-gary-celebration/
LOCATION:3 Galleries
END:VEVENT
BEGIN:VEVENT
DTSTART;VALUE=DATE:20250830
DTEND;VALUE=DATE:20250831
DTSTAMP:20260423T025127
CREATED:20250512T135745Z
LAST-MODIFIED:20250512T135745Z
UID:10000689-1756512000-1756598399@greenvilleconventioncenter.com
SUMMARY:Floyd / Tetterton Family Reunion
DESCRIPTION:
URL:https://greenvilleconventioncenter.com/event/floyd-tetterton-family-reunion/
LOCATION:3 Galleries
END:VEVENT
BEGIN:VEVENT
DTSTART;VALUE=DATE:20250809
DTEND;VALUE=DATE:20250810
DTSTAMP:20260423T025127
CREATED:20250807T130023Z
LAST-MODIFIED:20250807T130023Z
UID:10000771-1754697600-1754783999@greenvilleconventioncenter.com
SUMMARY:Anthony Vow Renewal Reception
DESCRIPTION:
URL:https://greenvilleconventioncenter.com/event/anthony-vow-renewal-reception/
LOCATION:3 Galleries
END:VEVENT
BEGIN:VEVENT
DTSTART;VALUE=DATE:20250802
DTEND;VALUE=DATE:20250803
DTSTAMP:20260423T025127
CREATED:20250603T182416Z
LAST-MODIFIED:20250603T182416Z
UID:10000705-1754092800-1754179199@greenvilleconventioncenter.com
SUMMARY:Williams Family Reunion
DESCRIPTION:
URL:https://greenvilleconventioncenter.com/event/williams-family-reunion-2/
LOCATION:3 Galleries
END:VEVENT
BEGIN:VEVENT
DTSTART;VALUE=DATE:20250719
DTEND;VALUE=DATE:20250720
DTSTAMP:20260423T025127
CREATED:20250509T175121Z
LAST-MODIFIED:20250509T175121Z
UID:10000687-1752883200-1752969599@greenvilleconventioncenter.com
SUMMARY:Crandall / Teel Family Reunion
DESCRIPTION:
URL:https://greenvilleconventioncenter.com/event/crandall-teel-family-reunion/
LOCATION:3 Galleries
END:VEVENT
BEGIN:VEVENT
DTSTART;VALUE=DATE:20250608
DTEND;VALUE=DATE:20250609
DTSTAMP:20260423T025127
CREATED:20250225T144311Z
LAST-MODIFIED:20250225T144311Z
UID:10000621-1749340800-1749427199@greenvilleconventioncenter.com
SUMMARY:Clay 50th Wedding Anniversary
DESCRIPTION:
URL:https://greenvilleconventioncenter.com/event/clay-50th-wedding-anniversary/
LOCATION:3 Galleries
END:VEVENT
BEGIN:VEVENT
DTSTART;TZID=UTC:20250607T183000
DTEND;TZID=UTC:20250607T223000
DTSTAMP:20260423T025127
CREATED:20250123T152458Z
LAST-MODIFIED:20250520T142535Z
UID:10000580-1749321000-1749335400@greenvilleconventioncenter.com
SUMMARY:Dixon 50th Birthday Party
DESCRIPTION:
URL:https://greenvilleconventioncenter.com/event/dixon-50th-birthday-party/
LOCATION:3 Galleries
END:VEVENT
BEGIN:VEVENT
DTSTART;VALUE=DATE:20250517
DTEND;VALUE=DATE:20250518
DTSTAMP:20260423T025127
CREATED:20241107T142429Z
LAST-MODIFIED:20241107T142429Z
UID:10000511-1747440000-1747526399@greenvilleconventioncenter.com
SUMMARY:Tenasia's Graduation Party
DESCRIPTION:
URL:https://greenvilleconventioncenter.com/event/tenasias-graduation-party/
LOCATION:3 Galleries
END:VEVENT
BEGIN:VEVENT
DTSTART;VALUE=DATE:20250131
DTEND;VALUE=DATE:20250201
DTSTAMP:20260423T025127
CREATED:20250108T113011Z
LAST-MODIFIED:20250108T131354Z
UID:10000542-1738281600-1738367999@greenvilleconventioncenter.com
SUMMARY:Private Event
DESCRIPTION:
URL:https://greenvilleconventioncenter.com/event/private-event-12/
LOCATION:3 Galleries
END:VEVENT
BEGIN:VEVENT
DTSTART;VALUE=DATE:20250116
DTEND;VALUE=DATE:20250117
DTSTAMP:20260423T025127
CREATED:20250117T213508Z
LAST-MODIFIED:20250117T213508Z
UID:10000554-1736985600-1737071999@greenvilleconventioncenter.com
SUMMARY:Pastor Richard Mercer's Banquet
DESCRIPTION:
URL:https://greenvilleconventioncenter.com/event/pastor-richard-mercers-banquet/
LOCATION:3 Galleries
END:VEVENT
BEGIN:VEVENT
DTSTART;VALUE=DATE:20241130
DTEND;VALUE=DATE:20241202
DTSTAMP:20260423T025127
CREATED:20241121T173844Z
LAST-MODIFIED:20241121T173844Z
UID:10000512-1732924800-1733097599@greenvilleconventioncenter.com
SUMMARY:U S.H.I.N.E.
DESCRIPTION:
URL:https://greenvilleconventioncenter.com/event/u-s-h-i-n-e/
LOCATION:3 Galleries
END:VEVENT
END:VCALENDAR