BEGIN:VCALENDAR
VERSION:2.0
PRODID:-//Greenville Convention Center - ECPv6.15.20//NONSGML v1.0//EN
CALSCALE:GREGORIAN
METHOD:PUBLISH
X-WR-CALNAME:Greenville Convention Center
X-ORIGINAL-URL:https://greenvilleconventioncenter.com
X-WR-CALDESC:Events for Greenville Convention Center
REFRESH-INTERVAL;VALUE=DURATION:PT1H
X-Robots-Tag:noindex
X-PUBLISHED-TTL:PT1H
BEGIN:VTIMEZONE
TZID:UTC
BEGIN:STANDARD
TZOFFSETFROM:+0000
TZOFFSETTO:+0000
TZNAME:UTC
DTSTART:20250101T000000
END:STANDARD
END:VTIMEZONE
BEGIN:VEVENT
DTSTART;TZID=UTC:20260718T100000
DTEND;TZID=UTC:20260718T170000
DTSTAMP:20260421T225846
CREATED:20250905T200311Z
LAST-MODIFIED:20250905T200311Z
UID:10000789-1784368800-1784394000@greenvilleconventioncenter.com
SUMMARY:Reptile Expo
DESCRIPTION:
URL:https://greenvilleconventioncenter.com/event/reptile-expo/2026-07-18/
END:VEVENT
BEGIN:VEVENT
DTSTART;TZID=UTC:20261003T100000
DTEND;TZID=UTC:20261003T170000
DTSTAMP:20260421T225846
CREATED:20250905T200311Z
LAST-MODIFIED:20250905T200311Z
UID:10000790-1791021600-1791046800@greenvilleconventioncenter.com
SUMMARY:Reptile Expo
DESCRIPTION:
URL:https://greenvilleconventioncenter.com/event/reptile-expo/2026-10-03/
END:VEVENT
END:VCALENDAR