BEGIN:VCALENDAR
VERSION:2.0
PRODID:-//Greenville Convention Center - ECPv6.15.20//NONSGML v1.0//EN
CALSCALE:GREGORIAN
METHOD:PUBLISH
X-WR-CALNAME:Greenville Convention Center
X-ORIGINAL-URL:https://greenvilleconventioncenter.com
X-WR-CALDESC:Events for Greenville Convention Center
REFRESH-INTERVAL;VALUE=DURATION:PT1H
X-Robots-Tag:noindex
X-PUBLISHED-TTL:PT1H
BEGIN:VTIMEZONE
TZID:UTC
BEGIN:STANDARD
TZOFFSETFROM:+0000
TZOFFSETTO:+0000
TZNAME:UTC
DTSTART:20250101T000000
END:STANDARD
END:VTIMEZONE
BEGIN:VEVENT
DTSTART;VALUE=DATE:20260519
DTEND;VALUE=DATE:20260520
DTSTAMP:20260423T145932
CREATED:20260216T204309Z
LAST-MODIFIED:20260216T204309Z
UID:10000874-1779177600-1779210000@greenvilleconventioncenter.com
SUMMARY:ECU Health Nursing Summit
DESCRIPTION:
URL:https://greenvilleconventioncenter.com/event/ecu-health-nursing-summit/2026-05-19/2/
END:VEVENT
BEGIN:VEVENT
DTSTART;VALUE=DATE:20260521
DTEND;VALUE=DATE:20260522
DTSTAMP:20260423T145932
CREATED:20250404T135805Z
LAST-MODIFIED:20250404T135805Z
UID:10000652-1779321600-1779407999@greenvilleconventioncenter.com
SUMMARY:PCC Graduation
DESCRIPTION:
URL:https://greenvilleconventioncenter.com/event/pcc-graduation/
END:VEVENT
BEGIN:VEVENT
DTSTART;VALUE=DATE:20260523
DTEND;VALUE=DATE:20260524
DTSTAMP:20260423T145932
CREATED:20250502T131220Z
LAST-MODIFIED:20250502T131234Z
UID:10000684-1779494400-1779580799@greenvilleconventioncenter.com
SUMMARY:Blow ♥ Wooten Wedding
DESCRIPTION:
URL:https://greenvilleconventioncenter.com/event/blow-%e2%99%a5-wooten-weddin-g/
END:VEVENT
BEGIN:VEVENT
DTSTART;VALUE=DATE:20260523
DTEND;VALUE=DATE:20260524
DTSTAMP:20260423T145932
CREATED:20250603T205609Z
LAST-MODIFIED:20250603T205609Z
UID:10000706-1779494400-1779580799@greenvilleconventioncenter.com
SUMMARY:Council ♥ Miles Wedding
DESCRIPTION:
URL:https://greenvilleconventioncenter.com/event/council-%e2%99%a5-miles-wedding/
LOCATION:Exhibit Hall D
END:VEVENT
BEGIN:VEVENT
DTSTART;VALUE=DATE:20260523
DTEND;VALUE=DATE:20260524
DTSTAMP:20260423T145932
CREATED:20250626T174946Z
LAST-MODIFIED:20250626T174946Z
UID:10000720-1779494400-1779580799@greenvilleconventioncenter.com
SUMMARY:Private Event
DESCRIPTION:
URL:https://greenvilleconventioncenter.com/event/private-event-17/
LOCATION:Exhibit Hall A\, asdfasdf
END:VEVENT
BEGIN:VEVENT
DTSTART;VALUE=DATE:20260523
DTEND;VALUE=DATE:20260524
DTSTAMP:20260423T145932
CREATED:20251016T203702Z
LAST-MODIFIED:20251016T203702Z
UID:10000809-1779494400-1779580799@greenvilleconventioncenter.com
SUMMARY:Geraldine Williams 70th Birthday Celebration
DESCRIPTION:
URL:https://greenvilleconventioncenter.com/event/geraldine-williams-70th-birthday-celebration/
END:VEVENT
BEGIN:VEVENT
DTSTART;VALUE=DATE:20260523
DTEND;VALUE=DATE:20260524
DTSTAMP:20260423T145932
CREATED:20251217T212606Z
LAST-MODIFIED:20251217T212606Z
UID:10000828-1779494400-1779580799@greenvilleconventioncenter.com
SUMMARY:Ruth's Birthday Gala
DESCRIPTION:
URL:https://greenvilleconventioncenter.com/event/ruths-birthday-gala/
LOCATION:3 Galleries
END:VEVENT
BEGIN:VEVENT
DTSTART;VALUE=DATE:20260528
DTEND;VALUE=DATE:20260601
DTSTAMP:20260423T145932
CREATED:20250613T130359Z
LAST-MODIFIED:20250613T130359Z
UID:10000714-1779926400-1780271999@greenvilleconventioncenter.com
SUMMARY:NC Conference of Shriners
DESCRIPTION:
URL:https://greenvilleconventioncenter.com/event/nc-conference-of-shriners/
END:VEVENT
BEGIN:VEVENT
DTSTART;VALUE=DATE:20260530
DTEND;VALUE=DATE:20260531
DTSTAMP:20260423T145932
CREATED:20260108T203907Z
LAST-MODIFIED:20260121T151858Z
UID:10000843-1780099200-1780185599@greenvilleconventioncenter.com
SUMMARY:Deas Baby Shower
DESCRIPTION:
URL:https://greenvilleconventioncenter.com/event/deas-baby-shower/
LOCATION:2 Galleries
END:VEVENT
BEGIN:VEVENT
DTSTART;VALUE=DATE:20260530
DTEND;VALUE=DATE:20260531
DTSTAMP:20260423T145932
CREATED:20260421T130057Z
LAST-MODIFIED:20260421T130057Z
UID:10000941-1780099200-1780185599@greenvilleconventioncenter.com
SUMMARY:NC Bail Academy
DESCRIPTION:
URL:https://greenvilleconventioncenter.com/event/nc-bail-academy-12/
END:VEVENT
BEGIN:VEVENT
DTSTART;VALUE=DATE:20260530
DTEND;VALUE=DATE:20260601
DTSTAMP:20260423T145932
CREATED:20260218T160425Z
LAST-MODIFIED:20260218T160425Z
UID:10000884-1780099200-1780271999@greenvilleconventioncenter.com
SUMMARY:NC Bail Academy
DESCRIPTION:
URL:https://greenvilleconventioncenter.com/event/nc-bail-academy-4/
END:VEVENT
BEGIN:VEVENT
DTSTART;VALUE=DATE:20260531
DTEND;VALUE=DATE:20260601
DTSTAMP:20260423T145932
CREATED:20260108T204019Z
LAST-MODIFIED:20260108T204019Z
UID:10000844-1780185600-1780271999@greenvilleconventioncenter.com
SUMMARY:Kingdom Empowerment Ministries International Fellowship
DESCRIPTION:
URL:https://greenvilleconventioncenter.com/event/kingdom-empowerment-ministries-international-fellowship-7/
END:VEVENT
BEGIN:VEVENT
DTSTART;VALUE=DATE:20260605
DTEND;VALUE=DATE:20260607
DTSTAMP:20260423T145932
CREATED:20250724T202618Z
LAST-MODIFIED:20260121T142951Z
UID:10000759-1780617600-1780790399@greenvilleconventioncenter.com
SUMMARY:Kingdom Women - Journey of Faith Conference
DESCRIPTION:
URL:https://greenvilleconventioncenter.com/event/kingdom-women-journey-of-faith-conference-2/
LOCATION:3 Galleries
END:VEVENT
BEGIN:VEVENT
DTSTART;VALUE=DATE:20260605
DTEND;VALUE=DATE:20260608
DTSTAMP:20260423T145932
CREATED:20250701T121459Z
LAST-MODIFIED:20250701T121459Z
UID:10000736-1780617600-1780876799@greenvilleconventioncenter.com
SUMMARY:S & D Gun Show
DESCRIPTION:Friday – Setup \nSaturday – 9-5 \nSunday – 10-5
URL:https://greenvilleconventioncenter.com/event/s-d-gun-show-2/
END:VEVENT
BEGIN:VEVENT
DTSTART;VALUE=DATE:20260606
DTEND;VALUE=DATE:20260607
DTSTAMP:20260423T145932
CREATED:20250603T151936Z
LAST-MODIFIED:20250603T151936Z
UID:10000701-1780704000-1780790399@greenvilleconventioncenter.com
SUMMARY:Moody ♥ Swain Wedding
DESCRIPTION:
URL:https://greenvilleconventioncenter.com/event/moody-%e2%99%a5-swain-wedding/
LOCATION:Emerald Room
END:VEVENT
BEGIN:VEVENT
DTSTART;VALUE=DATE:20260606
DTEND;VALUE=DATE:20260607
DTSTAMP:20260423T145932
CREATED:20260319T150217Z
LAST-MODIFIED:20260319T150217Z
UID:10000913-1780704000-1780790399@greenvilleconventioncenter.com
SUMMARY:Bynum 50th Birthday Party
DESCRIPTION:
URL:https://greenvilleconventioncenter.com/event/bynum-50th-birthday-party/
LOCATION:Exhibit Hall A\, asdfasdf
END:VEVENT
BEGIN:VEVENT
DTSTART;VALUE=DATE:20260606
DTEND;VALUE=DATE:20260607
DTSTAMP:20260423T145932
CREATED:20260320T140841Z
LAST-MODIFIED:20260320T140841Z
UID:10000915-1780704000-1780790399@greenvilleconventioncenter.com
SUMMARY:Wilkins Baby Shower
DESCRIPTION:
URL:https://greenvilleconventioncenter.com/event/wilkins-baby-shower/
LOCATION:2 Galleries
END:VEVENT
BEGIN:VEVENT
DTSTART;VALUE=DATE:20260606
DTEND;VALUE=DATE:20260611
DTSTAMP:20260423T145932
CREATED:20250610T130007Z
LAST-MODIFIED:20250610T130007Z
UID:10000709-1780704000-1781135999@greenvilleconventioncenter.com
SUMMARY:NC Rural Letter Carriers Convention 2026
DESCRIPTION:
URL:https://greenvilleconventioncenter.com/event/nc-rural-letter-carriers-convention-2026/
END:VEVENT
BEGIN:VEVENT
DTSTART;VALUE=DATE:20260608
DTEND;VALUE=DATE:20260613
DTSTAMP:20260423T145932
CREATED:20260406T201139Z
LAST-MODIFIED:20260406T201139Z
UID:10000931-1780876800-1781308799@greenvilleconventioncenter.com
SUMMARY:Kids Music Camp
DESCRIPTION:
URL:https://greenvilleconventioncenter.com/event/kids-music-camp/
LOCATION:1 Gallery
END:VEVENT
BEGIN:VEVENT
DTSTART;VALUE=DATE:20260611
DTEND;VALUE=DATE:20260612
DTSTAMP:20260423T145932
CREATED:20260421T130127Z
LAST-MODIFIED:20260421T130127Z
UID:10000942-1781136000-1781222399@greenvilleconventioncenter.com
SUMMARY:NC Bail Academy
DESCRIPTION:
URL:https://greenvilleconventioncenter.com/event/nc-bail-academy-13/
END:VEVENT
BEGIN:VEVENT
DTSTART;VALUE=DATE:20260613
DTEND;VALUE=DATE:20260614
DTSTAMP:20260423T145932
CREATED:20260210T183646Z
LAST-MODIFIED:20260210T183646Z
UID:10000872-1781308800-1781395199@greenvilleconventioncenter.com
SUMMARY:Nobles Birthday Party
DESCRIPTION:
URL:https://greenvilleconventioncenter.com/event/nobles-birthday-party/
LOCATION:Emerald Room
END:VEVENT
BEGIN:VEVENT
DTSTART;VALUE=DATE:20260613
DTEND;VALUE=DATE:20260614
DTSTAMP:20260423T145932
CREATED:20260303T200429Z
LAST-MODIFIED:20260303T200429Z
UID:10000903-1781308800-1781395199@greenvilleconventioncenter.com
SUMMARY:Harris Graduation Party
DESCRIPTION:
URL:https://greenvilleconventioncenter.com/event/harris-graduation-party/
LOCATION:2 Galleries
END:VEVENT
BEGIN:VEVENT
DTSTART;TZID=UTC:20260613T090000
DTEND;TZID=UTC:20260613T170000
DTSTAMP:20260423T145932
CREATED:20250903T134802Z
LAST-MODIFIED:20260212T184758Z
UID:10000782-1781341200-1781370000@greenvilleconventioncenter.com
SUMMARY:Greenville Gathering (Card & Collectibles Show)
DESCRIPTION:https://www.facebook.com/p/E-City-Card-and-Collectibles-Show-100091743325478/
URL:https://greenvilleconventioncenter.com/event/e-city-cards-collectibles-show/
LOCATION:Full Exhibit Hall (A\, B\, C\, D\, E)
END:VEVENT
BEGIN:VEVENT
DTSTART;VALUE=DATE:20260615
DTEND;VALUE=DATE:20260621
DTSTAMP:20260423T145932
CREATED:20231024T163141Z
LAST-MODIFIED:20231024T163141Z
UID:10000213-1781481600-1781999999@greenvilleconventioncenter.com
SUMMARY:NC Conference of the United Methodist Church
DESCRIPTION:
URL:https://greenvilleconventioncenter.com/event/nc-conference-of-the-united-methodist-church-2/
LOCATION:Full Center
END:VEVENT
BEGIN:VEVENT
DTSTART;VALUE=DATE:20260622
DTEND;VALUE=DATE:20260625
DTSTAMP:20260423T145932
CREATED:20260122T160131Z
LAST-MODIFIED:20260122T160137Z
UID:10000857-1782086400-1782345599@greenvilleconventioncenter.com
SUMMARY:Pitt County Schools
DESCRIPTION:
URL:https://greenvilleconventioncenter.com/event/pitt-county-schools-2/
LOCATION:Exhibit Hall ABC / Conference Room
END:VEVENT
BEGIN:VEVENT
DTSTART;VALUE=DATE:20260622
DTEND;VALUE=DATE:20260627
DTSTAMP:20260423T145932
CREATED:20260406T201446Z
LAST-MODIFIED:20260406T201446Z
UID:10000932-1782086400-1782518399@greenvilleconventioncenter.com
SUMMARY:Kids Music Camp
DESCRIPTION:
URL:https://greenvilleconventioncenter.com/event/kids-music-camp-2/
LOCATION:1 Gallery
END:VEVENT
BEGIN:VEVENT
DTSTART;VALUE=DATE:20260624
DTEND;VALUE=DATE:20260626
DTSTAMP:20260423T145932
CREATED:20250730T145008Z
LAST-MODIFIED:20250730T145008Z
UID:10000763-1782259200-1782431999@greenvilleconventioncenter.com
SUMMARY:NC Housing
DESCRIPTION:
URL:https://greenvilleconventioncenter.com/event/nc-housing/
LOCATION:Exhibit Hall D
END:VEVENT
BEGIN:VEVENT
DTSTART;VALUE=DATE:20260626
DTEND;VALUE=DATE:20260627
DTSTAMP:20260423T145932
CREATED:20260218T155716Z
LAST-MODIFIED:20260218T155716Z
UID:10000881-1782432000-1782518399@greenvilleconventioncenter.com
SUMMARY:Robinson Sickle Cell Disease Foundation
DESCRIPTION:
URL:https://greenvilleconventioncenter.com/event/robinson-sickle-cell-disease-foundation/
LOCATION:Exhibit Hall A\, asdfasdf
END:VEVENT
BEGIN:VEVENT
DTSTART;VALUE=DATE:20260627
DTEND;VALUE=DATE:20260628
DTSTAMP:20260423T145932
CREATED:20250613T130541Z
LAST-MODIFIED:20250613T130541Z
UID:10000715-1782518400-1782604799@greenvilleconventioncenter.com
SUMMARY:Willis ♥ Hardee Wedding
DESCRIPTION:
URL:https://greenvilleconventioncenter.com/event/willis-%e2%99%a5-hardee-wedding/
END:VEVENT
BEGIN:VEVENT
DTSTART;VALUE=DATE:20260627
DTEND;VALUE=DATE:20260628
DTSTAMP:20260423T145932
CREATED:20260303T133942Z
LAST-MODIFIED:20260303T133942Z
UID:10000897-1782518400-1782604799@greenvilleconventioncenter.com
SUMMARY:Green Family Reunion
DESCRIPTION:
URL:https://greenvilleconventioncenter.com/event/green-family-reunion-2/
LOCATION:3 Galleries
END:VEVENT
END:VCALENDAR