BEGIN:VCALENDAR
VERSION:2.0
PRODID:-//Greenville Convention Center - ECPv6.15.20//NONSGML v1.0//EN
CALSCALE:GREGORIAN
METHOD:PUBLISH
X-WR-CALNAME:Greenville Convention Center
X-ORIGINAL-URL:https://greenvilleconventioncenter.com
X-WR-CALDESC:Events for Greenville Convention Center
REFRESH-INTERVAL;VALUE=DURATION:PT1H
X-Robots-Tag:noindex
X-PUBLISHED-TTL:PT1H
BEGIN:VTIMEZONE
TZID:UTC
BEGIN:STANDARD
TZOFFSETFROM:+0000
TZOFFSETTO:+0000
TZNAME:UTC
DTSTART:20250101T000000
END:STANDARD
END:VTIMEZONE
BEGIN:VEVENT
DTSTART;VALUE=DATE:20260418
DTEND;VALUE=DATE:20260419
DTSTAMP:20260423T112803
CREATED:20251217T211847Z
LAST-MODIFIED:20251217T211847Z
UID:10000827-1776470400-1776556799@greenvilleconventioncenter.com
SUMMARY:Staten 1st Birthday Party
DESCRIPTION:
URL:https://greenvilleconventioncenter.com/event/staten-1st-birthday-party/
LOCATION:2 Galleries
END:VEVENT
BEGIN:VEVENT
DTSTART;VALUE=DATE:20260419
DTEND;VALUE=DATE:20260421
DTSTAMP:20260423T112803
CREATED:20260226T160638Z
LAST-MODIFIED:20260226T160638Z
UID:10000896-1776556800-1776729599@greenvilleconventioncenter.com
SUMMARY:Ahmad Wedding Celebration
DESCRIPTION:
URL:https://greenvilleconventioncenter.com/event/ahmad-wedding-celebration/
END:VEVENT
BEGIN:VEVENT
DTSTART;VALUE=DATE:20260421
DTEND;VALUE=DATE:20260422
DTSTAMP:20260423T112803
CREATED:20260421T165640Z
LAST-MODIFIED:20260421T165640Z
UID:10000948-1776729600-1776815999@greenvilleconventioncenter.com
SUMMARY:Ismael Family Gathering
DESCRIPTION:
URL:https://greenvilleconventioncenter.com/event/ismael-family-gathering/
END:VEVENT
BEGIN:VEVENT
DTSTART;VALUE=DATE:20260422
DTEND;VALUE=DATE:20260423
DTSTAMP:20260423T112803
CREATED:20260217T150936Z
LAST-MODIFIED:20260218T165331Z
UID:10000877-1776816000-1776902399@greenvilleconventioncenter.com
SUMMARY:NC Farm Bureau
DESCRIPTION:
URL:https://greenvilleconventioncenter.com/event/nc-farm-bureau-2/
END:VEVENT
BEGIN:VEVENT
DTSTART;TZID=UTC:20260424T090000
DTEND;TZID=UTC:20260425T183000
DTSTAMP:20260423T112803
CREATED:20260421T125555Z
LAST-MODIFIED:20260421T125555Z
UID:10000939-1777021200-1777141800@greenvilleconventioncenter.com
SUMMARY:Down Home NC
DESCRIPTION:
URL:https://greenvilleconventioncenter.com/event/down-home-nc/
LOCATION:Studio A
END:VEVENT
BEGIN:VEVENT
DTSTART;VALUE=DATE:20260425
DTEND;VALUE=DATE:20260426
DTSTAMP:20260423T112803
CREATED:20250318T180941Z
LAST-MODIFIED:20250318T180941Z
UID:10000640-1777075200-1777161599@greenvilleconventioncenter.com
SUMMARY:G3ektacular Comic Book & Toy Show
DESCRIPTION:https://www.facebook.com/g3ektacular
URL:https://greenvilleconventioncenter.com/event/g3ektacular-comic-book-toy-show-2/
LOCATION:Exhibit Hall AB
END:VEVENT
BEGIN:VEVENT
DTSTART;VALUE=DATE:20260425
DTEND;VALUE=DATE:20260426
DTSTAMP:20260423T112803
CREATED:20250502T131136Z
LAST-MODIFIED:20250502T131136Z
UID:10000683-1777075200-1777161599@greenvilleconventioncenter.com
SUMMARY:Sudan Shriners
DESCRIPTION:
URL:https://greenvilleconventioncenter.com/event/sudan-shriners/
END:VEVENT
BEGIN:VEVENT
DTSTART;VALUE=DATE:20260425
DTEND;VALUE=DATE:20260426
DTSTAMP:20260423T112803
CREATED:20250905T200056Z
LAST-MODIFIED:20250905T200056Z
UID:10000786-1777075200-1777161599@greenvilleconventioncenter.com
SUMMARY:Phi Sigma Pi Founder's Day
DESCRIPTION:
URL:https://greenvilleconventioncenter.com/event/phi-sigma-pi-founders-day/
END:VEVENT
BEGIN:VEVENT
DTSTART;VALUE=DATE:20260425
DTEND;VALUE=DATE:20260426
DTSTAMP:20260423T112803
CREATED:20260218T155605Z
LAST-MODIFIED:20260218T155605Z
UID:10000880-1777075200-1777161599@greenvilleconventioncenter.com
SUMMARY:Dickens Vow Renewal
DESCRIPTION:
URL:https://greenvilleconventioncenter.com/event/dickens-vow-renewal/
LOCATION:3 Galleries
END:VEVENT
BEGIN:VEVENT
DTSTART;VALUE=DATE:20260425
DTEND;VALUE=DATE:20260427
DTSTAMP:20260423T112803
CREATED:20260218T160220Z
LAST-MODIFIED:20260218T160220Z
UID:10000883-1777075200-1777247999@greenvilleconventioncenter.com
SUMMARY:NC Bail Academy
DESCRIPTION:
URL:https://greenvilleconventioncenter.com/event/nc-bail-academy-3/
END:VEVENT
BEGIN:VEVENT
DTSTART;VALUE=DATE:20260425
DTEND;VALUE=DATE:20260427
DTSTAMP:20260423T112803
CREATED:20260305T135103Z
LAST-MODIFIED:20260305T135103Z
UID:10000904-1777075200-1777247999@greenvilleconventioncenter.com
SUMMARY:2026 Spring Business Expo
DESCRIPTION:
URL:https://greenvilleconventioncenter.com/event/2026-spring-business-expo/
END:VEVENT
BEGIN:VEVENT
DTSTART;VALUE=DATE:20260426
DTEND;VALUE=DATE:20260427
DTSTAMP:20260423T112803
CREATED:20260108T201908Z
LAST-MODIFIED:20260108T201908Z
UID:10000842-1777161600-1777247999@greenvilleconventioncenter.com
SUMMARY:Kingdom Empowerment Ministries International Fellowship
DESCRIPTION:
URL:https://greenvilleconventioncenter.com/event/kingdom-empowerment-ministries-international-fellowship-6/
END:VEVENT
BEGIN:VEVENT
DTSTART;VALUE=DATE:20260501
DTEND;VALUE=DATE:20260502
DTSTAMP:20260423T112803
CREATED:20250519T194812Z
LAST-MODIFIED:20250519T194812Z
UID:10000693-1777593600-1777679999@greenvilleconventioncenter.com
SUMMARY:Ayden Grifton High School Prom
DESCRIPTION:
URL:https://greenvilleconventioncenter.com/event/ayden-grifton-high-school-prom-2/
END:VEVENT
BEGIN:VEVENT
DTSTART;VALUE=DATE:20260501
DTEND;VALUE=DATE:20260502
DTSTAMP:20260423T112803
CREATED:20260406T185928Z
LAST-MODIFIED:20260406T190432Z
UID:10000925-1777593600-1777679999@greenvilleconventioncenter.com
SUMMARY:Eastern Carolina Respiratory Conference
DESCRIPTION:
URL:https://greenvilleconventioncenter.com/event/eastern-carolina-respiratory-conference-3/
LOCATION:Full Exhibit Hall (A\, B\, C\, D\, E)
END:VEVENT
BEGIN:VEVENT
DTSTART;VALUE=DATE:20260502
DTEND;VALUE=DATE:20260503
DTSTAMP:20260423T112803
CREATED:20251229T194140Z
LAST-MODIFIED:20260129T171131Z
UID:10000831-1777680000-1777766399@greenvilleconventioncenter.com
SUMMARY:Grimes / Clark Wedding
DESCRIPTION:
URL:https://greenvilleconventioncenter.com/event/grimes-clark-wedding/
LOCATION:Exhibit Hall DE
END:VEVENT
BEGIN:VEVENT
DTSTART;VALUE=DATE:20260502
DTEND;VALUE=DATE:20260503
DTSTAMP:20260423T112803
CREATED:20260217T150904Z
LAST-MODIFIED:20260217T150904Z
UID:10000876-1777680000-1777766399@greenvilleconventioncenter.com
SUMMARY:Miller Baby Shower
DESCRIPTION:
URL:https://greenvilleconventioncenter.com/event/miller-baby-shower/
END:VEVENT
BEGIN:VEVENT
DTSTART;VALUE=DATE:20260502
DTEND;VALUE=DATE:20260503
DTSTAMP:20260423T112803
CREATED:20260406T192115Z
LAST-MODIFIED:20260406T192115Z
UID:10000927-1777680000-1777766399@greenvilleconventioncenter.com
SUMMARY:Miller Baby Shower
DESCRIPTION:
URL:https://greenvilleconventioncenter.com/event/miller-baby-shower-2/
LOCATION:2 Galleries
END:VEVENT
BEGIN:VEVENT
DTSTART;VALUE=DATE:20260504
DTEND;VALUE=DATE:20260509
DTSTAMP:20260423T112803
CREATED:20260324T134313Z
LAST-MODIFIED:20260324T134313Z
UID:10000917-1777852800-1778284799@greenvilleconventioncenter.com
SUMMARY:NC Cyber Academy
DESCRIPTION:
URL:https://greenvilleconventioncenter.com/event/nc-cyber-academy/
LOCATION:3 Galleries
END:VEVENT
BEGIN:VEVENT
DTSTART;VALUE=DATE:20260507
DTEND;VALUE=DATE:20260508
DTSTAMP:20260423T112803
CREATED:20260421T125933Z
LAST-MODIFIED:20260421T125933Z
UID:10000940-1778112000-1778198399@greenvilleconventioncenter.com
SUMMARY:NC Bail Academy
DESCRIPTION:
URL:https://greenvilleconventioncenter.com/event/nc-bail-academy-11/
END:VEVENT
BEGIN:VEVENT
DTSTART;VALUE=DATE:20260509
DTEND;VALUE=DATE:20260510
DTSTAMP:20260423T112803
CREATED:20251028T133150Z
LAST-MODIFIED:20251028T133150Z
UID:10000814-1778284800-1778371199@greenvilleconventioncenter.com
SUMMARY:Private Event
DESCRIPTION:
URL:https://greenvilleconventioncenter.com/event/private-event-24/
LOCATION:Emerald Room
END:VEVENT
BEGIN:VEVENT
DTSTART;VALUE=DATE:20260511
DTEND;VALUE=DATE:20260513
DTSTAMP:20260423T112803
CREATED:20260324T135552Z
LAST-MODIFIED:20260324T135552Z
UID:10000918-1778457600-1778630399@greenvilleconventioncenter.com
SUMMARY:NC Cyber Academy
DESCRIPTION:
URL:https://greenvilleconventioncenter.com/event/nc-cyber-academy-2/
LOCATION:2 Galleries
END:VEVENT
BEGIN:VEVENT
DTSTART;VALUE=DATE:20260515
DTEND;VALUE=DATE:20260517
DTSTAMP:20260423T112803
CREATED:20250410T190326Z
LAST-MODIFIED:20250410T190326Z
UID:10000662-1778803200-1778975999@greenvilleconventioncenter.com
SUMMARY:Differently Abled Fun Fair (DAFF) Sponsored by Koinonia
DESCRIPTION:
URL:https://greenvilleconventioncenter.com/event/differently-abled-fun-fair-daff-sponsored-by-koinonia/
END:VEVENT
BEGIN:VEVENT
DTSTART;VALUE=DATE:20260518
DTEND;VALUE=DATE:20260519
DTSTAMP:20260423T112803
CREATED:20260216T204349Z
LAST-MODIFIED:20260216T204349Z
UID:10000875-1779062400-1779148799@greenvilleconventioncenter.com
SUMMARY:ECU Health Nursing Summit Set-Up
DESCRIPTION:
URL:https://greenvilleconventioncenter.com/event/ecu-health-nursing-summit-set-up/
END:VEVENT
BEGIN:VEVENT
DTSTART;VALUE=DATE:20260519
DTEND;VALUE=DATE:20260521
DTSTAMP:20260423T112803
CREATED:20260216T204309Z
LAST-MODIFIED:20260216T204309Z
UID:10000873-1779148800-1779321599@greenvilleconventioncenter.com
SUMMARY:ECU Health Nursing Summit
DESCRIPTION:
URL:https://greenvilleconventioncenter.com/event/ecu-health-nursing-summit/2026-05-19/1/
END:VEVENT
BEGIN:VEVENT
DTSTART;VALUE=DATE:20260519
DTEND;VALUE=DATE:20260520
DTSTAMP:20260423T112803
CREATED:20260216T204309Z
LAST-MODIFIED:20260216T204309Z
UID:10000874-1779177600-1779210000@greenvilleconventioncenter.com
SUMMARY:ECU Health Nursing Summit
DESCRIPTION:
URL:https://greenvilleconventioncenter.com/event/ecu-health-nursing-summit/2026-05-19/2/
END:VEVENT
BEGIN:VEVENT
DTSTART;VALUE=DATE:20260521
DTEND;VALUE=DATE:20260522
DTSTAMP:20260423T112803
CREATED:20250404T135805Z
LAST-MODIFIED:20250404T135805Z
UID:10000652-1779321600-1779407999@greenvilleconventioncenter.com
SUMMARY:PCC Graduation
DESCRIPTION:
URL:https://greenvilleconventioncenter.com/event/pcc-graduation/
END:VEVENT
BEGIN:VEVENT
DTSTART;VALUE=DATE:20260523
DTEND;VALUE=DATE:20260524
DTSTAMP:20260423T112803
CREATED:20250502T131220Z
LAST-MODIFIED:20250502T131234Z
UID:10000684-1779494400-1779580799@greenvilleconventioncenter.com
SUMMARY:Blow ♥ Wooten Wedding
DESCRIPTION:
URL:https://greenvilleconventioncenter.com/event/blow-%e2%99%a5-wooten-weddin-g/
END:VEVENT
BEGIN:VEVENT
DTSTART;VALUE=DATE:20260523
DTEND;VALUE=DATE:20260524
DTSTAMP:20260423T112803
CREATED:20250603T205609Z
LAST-MODIFIED:20250603T205609Z
UID:10000706-1779494400-1779580799@greenvilleconventioncenter.com
SUMMARY:Council ♥ Miles Wedding
DESCRIPTION:
URL:https://greenvilleconventioncenter.com/event/council-%e2%99%a5-miles-wedding/
LOCATION:Exhibit Hall D
END:VEVENT
BEGIN:VEVENT
DTSTART;VALUE=DATE:20260523
DTEND;VALUE=DATE:20260524
DTSTAMP:20260423T112803
CREATED:20250626T174946Z
LAST-MODIFIED:20250626T174946Z
UID:10000720-1779494400-1779580799@greenvilleconventioncenter.com
SUMMARY:Private Event
DESCRIPTION:
URL:https://greenvilleconventioncenter.com/event/private-event-17/
LOCATION:Exhibit Hall A\, asdfasdf
END:VEVENT
BEGIN:VEVENT
DTSTART;VALUE=DATE:20260523
DTEND;VALUE=DATE:20260524
DTSTAMP:20260423T112803
CREATED:20251016T203702Z
LAST-MODIFIED:20251016T203702Z
UID:10000809-1779494400-1779580799@greenvilleconventioncenter.com
SUMMARY:Geraldine Williams 70th Birthday Celebration
DESCRIPTION:
URL:https://greenvilleconventioncenter.com/event/geraldine-williams-70th-birthday-celebration/
END:VEVENT
END:VCALENDAR