BEGIN:VCALENDAR
VERSION:2.0
PRODID:-//Greenville Convention Center - ECPv6.15.20//NONSGML v1.0//EN
CALSCALE:GREGORIAN
METHOD:PUBLISH
X-ORIGINAL-URL:https://greenvilleconventioncenter.com
X-WR-CALDESC:Events for Greenville Convention Center
REFRESH-INTERVAL;VALUE=DURATION:PT1H
X-Robots-Tag:noindex
X-PUBLISHED-TTL:PT1H
BEGIN:VTIMEZONE
TZID:UTC
BEGIN:STANDARD
TZOFFSETFROM:+0000
TZOFFSETTO:+0000
TZNAME:UTC
DTSTART:20250101T000000
END:STANDARD
END:VTIMEZONE
BEGIN:VEVENT
DTSTART;VALUE=DATE:20260808
DTEND;VALUE=DATE:20260809
DTSTAMP:20260421T154348
CREATED:20250813T105247Z
LAST-MODIFIED:20250813T105247Z
UID:10000774-1786147200-1786233599@greenvilleconventioncenter.com
SUMMARY:Comic Con 2026
DESCRIPTION:
URL:https://greenvilleconventioncenter.com/event/comic-con-2026/
END:VEVENT
BEGIN:VEVENT
DTSTART;VALUE=DATE:20260813
DTEND;VALUE=DATE:20260814
DTSTAMP:20260421T154348
CREATED:20260122T205304Z
LAST-MODIFIED:20260122T205304Z
UID:10000859-1786579200-1786665599@greenvilleconventioncenter.com
SUMMARY:Greenville-Pitt County Chamber of Commerce - Women's LeadHERship Conference
DESCRIPTION:
URL:https://greenvilleconventioncenter.com/event/greenville-pitt-county-chamber-of-commerce-womens-leadhership-conference/
END:VEVENT
BEGIN:VEVENT
DTSTART;VALUE=DATE:20260814
DTEND;VALUE=DATE:20260816
DTSTAMP:20260421T154348
CREATED:20250731T125925Z
LAST-MODIFIED:20250731T125925Z
UID:10000764-1786665600-1786838399@greenvilleconventioncenter.com
SUMMARY:Johnson ♥ Pettaway Wedding
DESCRIPTION:
URL:https://greenvilleconventioncenter.com/event/johnson-%e2%99%a5-pettaway-wedding/
END:VEVENT
BEGIN:VEVENT
DTSTART;VALUE=DATE:20260814
DTEND;VALUE=DATE:20260817
DTSTAMP:20260421T154348
CREATED:20250701T121544Z
LAST-MODIFIED:20250701T121544Z
UID:10000737-1786665600-1786924799@greenvilleconventioncenter.com
SUMMARY:S & D Gun Show
DESCRIPTION:Friday – Setup \nSaturday – 9-5 \nSunday – 10-5
URL:https://greenvilleconventioncenter.com/event/s-d-gun-show-3/
END:VEVENT
BEGIN:VEVENT
DTSTART;VALUE=DATE:20260822
DTEND;VALUE=DATE:20260823
DTSTAMP:20260421T154348
CREATED:20250807T123300Z
LAST-MODIFIED:20250807T123300Z
UID:10000770-1787356800-1787443199@greenvilleconventioncenter.com
SUMMARY:Roanoke High School Multi-Year Reunion
DESCRIPTION:
URL:https://greenvilleconventioncenter.com/event/roanoke-high-school-multi-year-reunion/
LOCATION:Exhibit Halls D\, E
END:VEVENT
BEGIN:VEVENT
DTSTART;VALUE=DATE:20260822
DTEND;VALUE=DATE:20260823
DTSTAMP:20260421T154348
CREATED:20251203T143443Z
LAST-MODIFIED:20251203T143443Z
UID:10000822-1787356800-1787443199@greenvilleconventioncenter.com
SUMMARY:Streeter Family Reunion
DESCRIPTION:
URL:https://greenvilleconventioncenter.com/event/streeter-family-reunion/
LOCATION:Exhibit Hall AB
END:VEVENT
BEGIN:VEVENT
DTSTART;VALUE=DATE:20260822
DTEND;VALUE=DATE:20260823
DTSTAMP:20260421T154348
CREATED:20260327T131549Z
LAST-MODIFIED:20260327T131549Z
UID:10000924-1787356800-1787443199@greenvilleconventioncenter.com
SUMMARY:JH Rose Class of 1986 Reunion
DESCRIPTION:
URL:https://greenvilleconventioncenter.com/event/jh-rose-class-of-1986-reunion/
LOCATION:Emerald Room
END:VEVENT
BEGIN:VEVENT
DTSTART;VALUE=DATE:20260822
DTEND;VALUE=DATE:20260824
DTSTAMP:20260421T154348
CREATED:20260218T160715Z
LAST-MODIFIED:20260218T160715Z
UID:10000887-1787356800-1787529599@greenvilleconventioncenter.com
SUMMARY:NC Bail Academy
DESCRIPTION:
URL:https://greenvilleconventioncenter.com/event/nc-bail-academy-7/
END:VEVENT
BEGIN:VEVENT
DTSTART;VALUE=DATE:20260828
DTEND;VALUE=DATE:20260829
DTSTAMP:20260421T154348
CREATED:20250805T210052Z
LAST-MODIFIED:20250805T210052Z
UID:10000768-1787875200-1787961599@greenvilleconventioncenter.com
SUMMARY:Anderson Vow Renewal
DESCRIPTION:
URL:https://greenvilleconventioncenter.com/event/anderson-vow-renewal/
END:VEVENT
BEGIN:VEVENT
DTSTART;VALUE=DATE:20260829
DTEND;VALUE=DATE:20260830
DTSTAMP:20260421T154348
CREATED:20250911T122535Z
LAST-MODIFIED:20250911T122535Z
UID:10000794-1787961600-1788047999@greenvilleconventioncenter.com
SUMMARY:Gilbert ♥ Chesson Wedding
DESCRIPTION:
URL:https://greenvilleconventioncenter.com/event/gilbert-%e2%99%a5-chesson-wedding/
END:VEVENT
BEGIN:VEVENT
DTSTART;VALUE=DATE:20260829
DTEND;VALUE=DATE:20260830
DTSTAMP:20260421T154348
CREATED:20260406T202112Z
LAST-MODIFIED:20260406T202112Z
UID:10000935-1787961600-1788047999@greenvilleconventioncenter.com
SUMMARY:Omega Psi Phi - Iota Nu Nu Chapter
DESCRIPTION:
URL:https://greenvilleconventioncenter.com/event/omega-psi-phi-iota-nu-nu-chapter/
LOCATION:Exhibit Hall D
END:VEVENT
BEGIN:VEVENT
DTSTART;TZID=UTC:20260829T100000
DTEND;TZID=UTC:20260829T170000
DTSTAMP:20260421T154348
CREATED:20260421T130614Z
LAST-MODIFIED:20260421T130614Z
UID:10000944-1787997600-1788022800@greenvilleconventioncenter.com
SUMMARY:McCabe's Horror Con
DESCRIPTION:  \nhttps://mccabeshorrorcon.com/ \nhttps://www.facebook.com/events/greenville-convention-center/mccabes-horror-con/2156082718477264/ \nGet ready for a spine-chilling experience at McCabe’s Horror Con—the ultimate gathering for fans of all things creepy\, eerie\, and downright terrifying! Brought to you by McCabe’s Costumes\, this immersive convention celebrates horror in all its forms\, from classic monsters to modern nightmares. More details to come.\nTo purchase tickets\, visit https://www.eventeny.com/events/ticket/?id=29715\nInterested in being a vendor? Apply Now! https://www.eventeny.com/events/vendor/?id=47346\n\n 
URL:https://greenvilleconventioncenter.com/event/mccabes-horror-con/
LOCATION:Exhibit Hall AB
END:VEVENT
BEGIN:VEVENT
DTSTART;TZID=UTC:20260829T150000
DTEND;TZID=UTC:20260829T190000
DTSTAMP:20260421T154348
CREATED:20260421T131110Z
LAST-MODIFIED:20260421T131110Z
UID:10000945-1788015600-1788030000@greenvilleconventioncenter.com
SUMMARY:Brooklynn's Baby Shower
DESCRIPTION:
URL:https://greenvilleconventioncenter.com/event/brooklynns-baby-shower/
LOCATION:2 Galleries
END:VEVENT
BEGIN:VEVENT
DTSTART;TZID=UTC:20260829T163000
DTEND;TZID=UTC:20260829T213000
DTSTAMP:20260421T154348
CREATED:20260421T131321Z
LAST-MODIFIED:20260421T131321Z
UID:10000946-1788021000-1788039000@greenvilleconventioncenter.com
SUMMARY:Billups Family Reunion
DESCRIPTION:
URL:https://greenvilleconventioncenter.com/event/billups-family-reunion/
LOCATION:2 Galleries
END:VEVENT
BEGIN:VEVENT
DTSTART;VALUE=DATE:20260912
DTEND;VALUE=DATE:20260913
DTSTAMP:20260421T154348
CREATED:20251125T190258Z
LAST-MODIFIED:20251125T190258Z
UID:10000821-1789171200-1789257599@greenvilleconventioncenter.com
SUMMARY:Hines Birthday Party
DESCRIPTION:
URL:https://greenvilleconventioncenter.com/event/hines-birthday-party/
LOCATION:Emerald Room
END:VEVENT
BEGIN:VEVENT
DTSTART;VALUE=DATE:20260912
DTEND;VALUE=DATE:20260913
DTSTAMP:20260421T154348
CREATED:20260303T143001Z
LAST-MODIFIED:20260303T143001Z
UID:10000898-1789171200-1789257599@greenvilleconventioncenter.com
SUMMARY:"Let's Talk About It" Mental Health Awareness Gala
DESCRIPTION:
URL:https://greenvilleconventioncenter.com/event/lets-talk-about-it-mental-health-awareness-gala/
LOCATION:Exhibit Hall C
END:VEVENT
BEGIN:VEVENT
DTSTART;VALUE=DATE:20260913
DTEND;VALUE=DATE:20270407
DTSTAMP:20260421T154348
CREATED:20250425T094306Z
LAST-MODIFIED:20250425T094306Z
UID:10000675-1789257600-1807055999@greenvilleconventioncenter.com
SUMMARY:Nearly New Fish
DESCRIPTION:
URL:https://greenvilleconventioncenter.com/event/nearly-new-fish-5/
END:VEVENT
BEGIN:VEVENT
DTSTART;VALUE=DATE:20260919
DTEND;VALUE=DATE:20260920
DTSTAMP:20260421T154348
CREATED:20260210T175830Z
LAST-MODIFIED:20260210T175830Z
UID:10000864-1789776000-1789862399@greenvilleconventioncenter.com
SUMMARY:Musungay ♥ Gunter Wedding
DESCRIPTION:
URL:https://greenvilleconventioncenter.com/event/musungay-%e2%99%a5-gunter-wedding/
LOCATION:Emerald Room
END:VEVENT
BEGIN:VEVENT
DTSTART;VALUE=DATE:20260925
DTEND;VALUE=DATE:20260928
DTSTAMP:20260421T154348
CREATED:20250701T121621Z
LAST-MODIFIED:20250701T121621Z
UID:10000738-1790294400-1790553599@greenvilleconventioncenter.com
SUMMARY:S & D Gun Show
DESCRIPTION:Friday – Setup \nSaturday – 9-5 \nSunday – 10-5
URL:https://greenvilleconventioncenter.com/event/s-d-gun-show-4/
END:VEVENT
BEGIN:VEVENT
DTSTART;VALUE=DATE:20260926
DTEND;VALUE=DATE:20260927
DTSTAMP:20260421T154348
CREATED:20250917T203042Z
LAST-MODIFIED:20250917T203042Z
UID:10000801-1790380800-1790467199@greenvilleconventioncenter.com
SUMMARY:Green ♥ Barnes Wedding
DESCRIPTION:
URL:https://greenvilleconventioncenter.com/event/green-%e2%99%a5-barnes-wedding/
LOCATION:Exhibit Hall A\, asdfasdf
END:VEVENT
BEGIN:VEVENT
DTSTART;VALUE=DATE:20260926
DTEND;VALUE=DATE:20260927
DTSTAMP:20260421T154348
CREATED:20260303T151007Z
LAST-MODIFIED:20260303T151007Z
UID:10000900-1790380800-1790467199@greenvilleconventioncenter.com
SUMMARY:Private Event
DESCRIPTION:
URL:https://greenvilleconventioncenter.com/event/private-event-26/
LOCATION:3 Galleries
END:VEVENT
BEGIN:VEVENT
DTSTART;VALUE=DATE:20260926
DTEND;VALUE=DATE:20260928
DTSTAMP:20260421T154348
CREATED:20260218T160751Z
LAST-MODIFIED:20260218T160751Z
UID:10000888-1790380800-1790553599@greenvilleconventioncenter.com
SUMMARY:NC Bail Academy
DESCRIPTION:
URL:https://greenvilleconventioncenter.com/event/nc-bail-academy-8/
END:VEVENT
BEGIN:VEVENT
DTSTART;VALUE=DATE:20260927
DTEND;VALUE=DATE:20260928
DTSTAMP:20260421T154348
CREATED:20250902T182249Z
LAST-MODIFIED:20250902T182249Z
UID:10000778-1790467200-1790553599@greenvilleconventioncenter.com
SUMMARY:The Church of Jesus Christ of Latter-Day Saints
DESCRIPTION:
URL:https://greenvilleconventioncenter.com/event/the-church-of-jesus-christ-of-latter-day-saints/
LOCATION:Exhibit Hall DE
END:VEVENT
BEGIN:VEVENT
DTSTART;VALUE=DATE:20260930
DTEND;VALUE=DATE:20261001
DTSTAMP:20260421T154348
CREATED:20260210T180452Z
LAST-MODIFIED:20260210T180452Z
UID:10000865-1790726400-1790812799@greenvilleconventioncenter.com
SUMMARY:ECU Fall/STEM Career Fair
DESCRIPTION:
URL:https://greenvilleconventioncenter.com/event/ecu-fall-stem-career-fair-4/
LOCATION:Full Exhibit Hall (A\, B\, C\, D\, E)
END:VEVENT
BEGIN:VEVENT
DTSTART;VALUE=DATE:20261001
DTEND;VALUE=DATE:20261002
DTSTAMP:20260421T154348
CREATED:20260210T180746Z
LAST-MODIFIED:20260210T180746Z
UID:10000866-1790812800-1790899199@greenvilleconventioncenter.com
SUMMARY:Better Skills / Better Jobs Career Fair
DESCRIPTION:
URL:https://greenvilleconventioncenter.com/event/better-skills-better-jobs-career-fair-2/
LOCATION:Full Exhibit Hall (A\, B\, C\, D\, E)
END:VEVENT
BEGIN:VEVENT
DTSTART;TZID=UTC:20261003T100000
DTEND;TZID=UTC:20261003T170000
DTSTAMP:20260421T154348
CREATED:20250905T200311Z
LAST-MODIFIED:20250905T200311Z
UID:10000790-1791021600-1791046800@greenvilleconventioncenter.com
SUMMARY:Reptile Expo
DESCRIPTION:
URL:https://greenvilleconventioncenter.com/event/reptile-expo/2026-10-03/
END:VEVENT
BEGIN:VEVENT
DTSTART;TZID=UTC:20261003T140000
DTEND;TZID=UTC:20261003T180000
DTSTAMP:20260421T154348
CREATED:20260421T141035Z
LAST-MODIFIED:20260421T141035Z
UID:10000947-1791036000-1791050400@greenvilleconventioncenter.com
SUMMARY:Williams Baby Shower
DESCRIPTION:
URL:https://greenvilleconventioncenter.com/event/williams-baby-shower/
LOCATION:2 Galleries
END:VEVENT
BEGIN:VEVENT
DTSTART;VALUE=DATE:20261009
DTEND;VALUE=DATE:20261010
DTSTAMP:20260421T154348
CREATED:20260218T192113Z
LAST-MODIFIED:20260218T192113Z
UID:10000894-1791504000-1791590399@greenvilleconventioncenter.com
SUMMARY:USMC Birthday Ball
DESCRIPTION:
URL:https://greenvilleconventioncenter.com/event/usmc-birthday-ball-47/
END:VEVENT
BEGIN:VEVENT
DTSTART;VALUE=DATE:20261010
DTEND;VALUE=DATE:20261011
DTSTAMP:20260421T154348
CREATED:20260218T161416Z
LAST-MODIFIED:20260218T161416Z
UID:10000892-1791590400-1791676799@greenvilleconventioncenter.com
SUMMARY:Taylor ♥ Whitehead Wedding
DESCRIPTION:
URL:https://greenvilleconventioncenter.com/event/taylor-%e2%99%a5-whitehead-wedding/
LOCATION:Emerald Room
END:VEVENT
BEGIN:VEVENT
DTSTART;VALUE=DATE:20261010
DTEND;VALUE=DATE:20261012
DTSTAMP:20260421T154348
CREATED:20260122T213832Z
LAST-MODIFIED:20260122T213832Z
UID:10000860-1791590400-1791763199@greenvilleconventioncenter.com
SUMMARY:Private Event
DESCRIPTION:
URL:https://greenvilleconventioncenter.com/event/private-event-25/
END:VEVENT
END:VCALENDAR