BEGIN:VCALENDAR
VERSION:2.0
PRODID:-//Greenville Convention Center - ECPv6.15.16//NONSGML v1.0//EN
CALSCALE:GREGORIAN
METHOD:PUBLISH
X-WR-CALNAME:Greenville Convention Center
X-ORIGINAL-URL:https://greenvilleconventioncenter.com
X-WR-CALDESC:Events for Greenville Convention Center
REFRESH-INTERVAL;VALUE=DURATION:PT1H
X-Robots-Tag:noindex
X-PUBLISHED-TTL:PT1H
BEGIN:VTIMEZONE
TZID:UTC
BEGIN:STANDARD
TZOFFSETFROM:+0000
TZOFFSETTO:+0000
TZNAME:UTC
DTSTART:20240101T000000
END:STANDARD
END:VTIMEZONE
BEGIN:VEVENT
DTSTART;VALUE=DATE:20251129
DTEND;VALUE=DATE:20251130
DTSTAMP:20260420T141904
CREATED:20250408T201659Z
LAST-MODIFIED:20251001T145129Z
UID:2563-1764374400-1764460799@greenvilleconventioncenter.com
SUMMARY:Price Wedding
DESCRIPTION:
URL:https://greenvilleconventioncenter.com/event/price-wedding/
LOCATION:Exhibit Hall A\, asdfasdf
END:VEVENT
BEGIN:VEVENT
DTSTART;VALUE=DATE:20251129
DTEND;VALUE=DATE:20251130
DTSTAMP:20260420T141904
CREATED:20251119T143730Z
LAST-MODIFIED:20251119T143730Z
UID:2934-1764374400-1764460799@greenvilleconventioncenter.com
SUMMARY:Meyers ♥ Adams Wedding
DESCRIPTION:
URL:https://greenvilleconventioncenter.com/event/meyers-%e2%99%a5-adams-wedding/
END:VEVENT
BEGIN:VEVENT
DTSTART;TZID=UTC:20251129T100000
DTEND;TZID=UTC:20251129T140000
DTSTAMP:20260420T141904
CREATED:20250714T184151Z
LAST-MODIFIED:20250714T184314Z
UID:2771-1764410400-1764424800@greenvilleconventioncenter.com
SUMMARY:"The Appointed Time" - Motivational Conference
DESCRIPTION:
URL:https://greenvilleconventioncenter.com/event/the-appointed-time-motivational-conference/
LOCATION:3 Galleries
END:VEVENT
END:VCALENDAR